BEGIN:VCALENDAR
VERSION:2.0
PRODID:-//ChamberMaster//Event Calendar 2.0//EN
METHOD:PUBLISH
X-PUBLISHED-TTL:P3D
REFRESH-INTERVAL:P3D
CALSCALE:GREGORIAN
BEGIN:VEVENT
DTSTART:20230307T000000Z
DTEND:20230307T010000Z
X-MICROSOFT-CDO-ALLDAYEVENT:FALSE
SUMMARY:Germanna Community Conversations: Jelani Cobb - The Half-Life of Freedom: Race and Justice in America Today
DESCRIPTION:Join us in conversation with Peabody Award-winning journalist and The New Yorker staff writer Jelani Cobb as we will explore the complexities of race and inequality\, while offering guidance and hope for the future.
X-ALT-DESC;FMTTYPE=text/html:<span style="background-color:transparent\; color:rgb(0\, 0\, 0)\; font-family:calibri\,sans-serif\; font-size:11pt">Join us in conversation with Peabody Award-winning journalist and The New Yorker staff writer&nbsp\;Jelani Cobb as we will explore the complexities of race and inequality\, while offering guidance and hope for the future.</span>
LOCATION:Online via Zoom
UID:e.492.13384
SEQUENCE:3
DTSTAMP:20260422T103206Z
URL:https://members.fredericksburgchamber.org/events/details/community-conversations-jelani-cobb-the-half-life-of-freedom-race-and-justice-in-america-today-13384
END:VEVENT

END:VCALENDAR
