BEGIN:VCALENDAR
VERSION:2.0
PRODID:-//ChamberMaster//Event Calendar 2.0//EN
METHOD:PUBLISH
X-PUBLISHED-TTL:P3D
REFRESH-INTERVAL:P3D
CALSCALE:GREGORIAN
BEGIN:VEVENT
DTSTART:20240307T000000Z
DTEND:20240307T010000Z
X-MICROSOFT-CDO-ALLDAYEVENT:FALSE
SUMMARY:Germanna Community Conversations - Panel Discussion\, Diverse Participation in the Revolutionary War
DESCRIPTION:Join Dr. Gaila Sims\, author Aly Riley\, Dr. Will Mackintosh\, Prof. Edwin Watson\, and Mr. David Marsich in\n\ncelebration of the Fredericksburg Area Museum's exhibition\, Lafayette's World: Revolutionary Ideals and the\n\nLimits of Freedom. This panel will explore contributions by African Americans\, women\, Indigenous people\n\nand members of the LGBTQ+ community to the American Revolution.
X-ALT-DESC;FMTTYPE=text/html:Join Dr. Gaila Sims\, author Aly Riley\, Dr. Will Mackintosh\, Prof. Edwin Watson\, and Mr. David Marsich in<br />\ncelebration of the Fredericksburg Area Museum&#39\;s exhibition\, Lafayette&#39\;s World: Revolutionary Ideals and the<br />\nLimits of Freedom. This panel will explore contributions by African Americans\, women\, Indigenous people<br />\nand members of the LGBTQ+ community to the American Revolution.
LOCATION:Virtual via Zoom
UID:e.492.13835
SEQUENCE:3
DTSTAMP:20260422T035601Z
URL:https://members.fredericksburgchamber.org/events/details/community-conversations-panel-discussion-diverse-participation-in-the-revolutionary-war-13835
END:VEVENT

END:VCALENDAR
