BEGIN:VCALENDAR
VERSION:2.0
PRODID:-//ChamberMaster//Event Calendar 2.0//EN
METHOD:PUBLISH
X-PUBLISHED-TTL:P3D
REFRESH-INTERVAL:P3D
CALSCALE:GREGORIAN
BEGIN:VEVENT
DTSTART:20240223T000000Z
DTEND:20240223T010000Z
X-MICROSOFT-CDO-ALLDAYEVENT:FALSE
SUMMARY:Germanna Community Conversations - Speaker: Bettina Love\, Punished for Dreaming: The Case for Abolitionist Teaching & Educational Reparations
DESCRIPTION:Dr. Love tells the story of her generation   the hip-hop generation   who came of age when mass\n\nincarceration and educational policies put targets on the backs of Black children. Learn how the last four\n\ndecades laid the foundation for educational reformers to extract from Black education for their own gain\,\n\nand hear about Dr. Love's road map for repair.
X-ALT-DESC;FMTTYPE=text/html:Dr. Love tells the story of her generation &mdash\; the hip-hop generation &mdash\; who came of age when mass<br />\nincarceration and educational policies put targets on the backs of Black children. Learn how the last four<br />\ndecades laid the foundation for educational reformers to extract from Black education for their own gain\,<br />\nand hear about Dr. Love&#39\;s road map for repair.
LOCATION:Virtual via Zoom
UID:e.492.13834
SEQUENCE:3
DTSTAMP:20260422T042814Z
URL:https://members.fredericksburgchamber.org/events/details/community-conversations-punished-for-dreaming-the-case-for-abolitionist-teaching-educational-reparations-13834
END:VEVENT

END:VCALENDAR
