BEGIN:VCALENDAR
VERSION:2.0
PRODID:-//ChamberMaster//Event Calendar 2.0//EN
METHOD:PUBLISH
X-PUBLISHED-TTL:P3D
REFRESH-INTERVAL:P3D
CALSCALE:GREGORIAN
BEGIN:VEVENT
DTSTART:20240111T200000Z
DTEND:20240111T230000Z
X-MICROSOFT-CDO-ALLDAYEVENT:FALSE
SUMMARY:Community Open House
DESCRIPTION:Explore your community's college at our upcoming Community Open House. Open to all\, this is your chance to tour the Fredericksburg Area Campus\, learn about our academic programs\, and enter exciting giveaways.
X-ALT-DESC;FMTTYPE=text/html:Explore your community&#39\;s college at our upcoming&nbsp\;<strong>Community Open House.&nbsp\;</strong>Open to all\, this is your chance to tour the Fredericksburg Area Campus\, learn about our academic programs\, and enter exciting giveaways.
LOCATION:10000 Germanna Point Drive\, Fredericksburg\, VA 22408
UID:e.492.13795
SEQUENCE:3
DTSTAMP:20260422T005043Z
URL:https://members.fredericksburgchamber.org/events/details/community-open-house-01-11-2024-13795
END:VEVENT

END:VCALENDAR
