BEGIN:VCALENDAR
VERSION:2.0
PRODID:-//ChamberMaster//Event Calendar 2.0//EN
METHOD:PUBLISH
X-PUBLISHED-TTL:P3D
REFRESH-INTERVAL:P3D
CALSCALE:GREGORIAN
BEGIN:VEVENT
DTSTART:20250927T130000Z
DTEND:20250927T160000Z
X-MICROSOFT-CDO-ALLDAYEVENT:FALSE
SUMMARY:Community Shred Event
DESCRIPTION:Our next event date is on September 27\, 2025. It will be held at our Plaza (King George) Branch from 9:00 am - 12:00 pm. When you arrive at the branch\, signage and employees will help direct you to the line. You will unload your items when it is your turn. Once your shredding is complete\, you'll be able to make a donation to Downtown Colonial Beach and we'll match your donations up to $250 (no worries\, this is optional). To offer this service to as many community members as possible\, there is a 4 bag/box limit per person of personal shredding only.
X-ALT-DESC;FMTTYPE=text/html:Our next event date is on September 27\, 2025. It will be held at our Plaza (King George) Branch from 9:00 am - 12:00 pm. When you arrive at the branch\, signage and employees will help direct you to the line. You will unload your items when it is your turn. Once your shredding is complete\, you&rsquo\;ll be able to make a donation to Downtown Colonial Beach and we&rsquo\;ll match your donations up to $250 (no worries\, this is optional). To offer this service to as many community members as possible\, there is a 4 bag/box limit per person of personal shredding only.
LOCATION:Topside Federal Credit Union\, Plaza Branch
UID:e.492.14989
SEQUENCE:3
DTSTAMP:20260421T225747Z
URL:https://members.fredericksburgchamber.org/events/details/community-shred-event-09-27-2025-14989
END:VEVENT

END:VCALENDAR
