BEGIN:VCALENDAR
VERSION:2.0
PRODID:-//ChamberMaster//Event Calendar 2.0//EN
METHOD:PUBLISH
X-PUBLISHED-TTL:P3D
REFRESH-INTERVAL:P3D
CALSCALE:GREGORIAN
BEGIN:VEVENT
DTSTART:20231209T170000Z
DTEND:20231209T200000Z
X-MICROSOFT-CDO-ALLDAYEVENT:FALSE
SUMMARY:Cookies\, Cocoa & Crafts
DESCRIPTION:Create holiday memories at the National Museum of the Marine Corps. Free cookies\, cocoa\, and holiday themed picture frames will be available on the second floor for kids while supplies last.
X-ALT-DESC;FMTTYPE=text/html:Create holiday memories at the National Museum of the Marine Corps. Free cookies\, cocoa\, and holiday themed picture frames will be available on the second floor for kids while supplies last.
LOCATION:National Museum of the Marine Corps 1775 Semper Fidelis Way Triangle\, VA 22172
UID:e.492.13764
SEQUENCE:3
DTSTAMP:20260421T232513Z
URL:https://members.fredericksburgchamber.org/events/details/cookies-cocoa-crafts-13764
END:VEVENT

END:VCALENDAR
