BEGIN:VCALENDAR
VERSION:2.0
PRODID:-//ChamberMaster//Event Calendar 2.0//EN
METHOD:PUBLISH
X-PUBLISHED-TTL:P3D
REFRESH-INTERVAL:P3D
CALSCALE:GREGORIAN
BEGIN:VEVENT
DTSTART:20230119T200000Z
DTEND:20230120T010000Z
X-MICROSOFT-CDO-ALLDAYEVENT:FALSE
SUMMARY:Cooking With Autism Charity Event
DESCRIPTION:Come out and Help Support Cooking with Autism while not Cooking and and let the expert Pizza Bakers at Mellow Mushroom Bake some Pizza for you. 15% of and Original Receipt dropped in the Basket goes back to help support our cause. Can't make it this month Check us out we will be doing this 3rd Thursday each month!!! Let's Get Cooking!
X-ALT-DESC;FMTTYPE=text/html:Come out and Help Support Cooking with Autism while not Cooking and and let the expert Pizza Bakers at Mellow Mushroom Bake some Pizza for you. 15% of and Original Receipt dropped in the Basket goes back to help support our cause. Can&#39\;t make it this month Check us out we will be doing this 3rd Thursday each month!!! Let&#39\;s Get Cooking!
LOCATION:Mellow Mushroom Downtown Fredericksburg 609 William St
UID:e.492.13359
SEQUENCE:3
DTSTAMP:20260422T134140Z
URL:https://members.fredericksburgchamber.org/events/details/cooking-with-autism-charity-event-13359
END:VEVENT

END:VCALENDAR
