BEGIN:VCALENDAR
VERSION:2.0
PRODID:-//ChamberMaster//Event Calendar 2.0//EN
METHOD:PUBLISH
X-PUBLISHED-TTL:P3D
REFRESH-INTERVAL:P3D
CALSCALE:GREGORIAN
BEGIN:VEVENT
DTSTART:20221001T130000Z
DTEND:20221001T170000Z
X-MICROSOFT-CDO-ALLDAYEVENT:FALSE
SUMMARY:Cougar Car Show
DESCRIPTION:Courtland High School's Career and Technical Education Department is host a car show to raise money for our student clubs - DECA (marketing)\, FBLA (business) and FAA (agriculture). Door prizes\, food\, bounce houses for the kids
X-ALT-DESC;FMTTYPE=text/html:Courtland High School&#39\;s Career and Technical Education Department is host a car show to raise money for our student clubs - DECA (marketing)\, FBLA (business) and FAA (agriculture). Door prizes\, food\, bounce houses for the kids
LOCATION:Courtland High School 6701 Smith Station Road Spotsylvania\, VA 22553
UID:e.492.13132
SEQUENCE:3
DTSTAMP:20260422T175903Z
URL:https://members.fredericksburgchamber.org/events/details/cougar-car-show-13132
END:VEVENT

END:VCALENDAR
