BEGIN:VCALENDAR
VERSION:2.0
PRODID:-//ChamberMaster//Event Calendar 2.0//EN
METHOD:PUBLISH
X-PUBLISHED-TTL:P3D
REFRESH-INTERVAL:P3D
CALSCALE:GREGORIAN
BEGIN:VEVENT
DTSTART:20241129T210000Z
DTEND:20241130T000000Z
X-MICROSOFT-CDO-ALLDAYEVENT:FALSE
SUMMARY:CTI Real Estate "Toys for Tots" Holiday Mixer.
DESCRIPTION:Have fun with Toys for Tots\, networking with community partners\, taking pictures with Santa\, and enjoying refreshments!
X-ALT-DESC;FMTTYPE=text/html:Have fun with Toys for Tots\, networking with community partners\, taking pictures with Santa\, and enjoying refreshments!&nbsp\;
LOCATION:2052 Richmond Highway\, Suite 109\, Stafford\, VA\, 22554
UID:e.492.14306
SEQUENCE:3
DTSTAMP:20260424T180748Z
URL:https://members.fredericksburgchamber.org/events/details/cti-real-estate-toys-for-tots-holiday-mixer-14306
END:VEVENT

END:VCALENDAR
