BEGIN:VCALENDAR
VERSION:2.0
PRODID:-//ChamberMaster//Event Calendar 2.0//EN
METHOD:PUBLISH
X-PUBLISHED-TTL:P3D
REFRESH-INTERVAL:P3D
CALSCALE:GREGORIAN
BEGIN:VEVENT
DTSTART:20230602T230000Z
DTEND:20230603T020000Z
X-MICROSOFT-CDO-ALLDAYEVENT:FALSE
SUMMARY:CVHR Spring Barn Dance
DESCRIPTION:Friday\, June 2\, 2023 @ 7:00 PM\n\nRevatone Farm\, 10828 Catharpin Rd\, Spotsylvania\, VA 22553\n\n \n\nJoin Central Virginia Horse Rescue for a good old fashion Barn Party at the beautiful Revatone Farm located in Spotsylvania\, VA on June 2nd from 7 pm - 10 pm.  The Spring Barn Party is to benefit the horses of CVHR.\n\n \n\nAttire is casual so break out your jeans and boots and join us for a night of music\, dancing and fun!\n\n \n\n\n	Dancing\n	Cash Bar\n	Food Truck\n	Raffle Prizes
X-ALT-DESC;FMTTYPE=text/html:<div>Friday\, June 2\, 2023 @ 7:00 PM</div>\n\n<div>Revatone Farm\, 10828 Catharpin Rd\, Spotsylvania\, VA 22553</div>\n\n<div>&nbsp\;</div>\n\n<div>Join Central Virginia Horse Rescue for a good old fashion Barn Party at the beautiful Revatone Farm located in Spotsylvania\, VA on June 2nd from 7 pm - 10 pm.&nbsp\; The Spring Barn Party is to benefit the horses of CVHR.</div>\n\n<div>&nbsp\;</div>\n\n<div>Attire is casual so break out your jeans and boots and join us for a night of music\, dancing and fun!<br />\n&nbsp\;</div>\n\n<ul>\n	<li>Dancing</li>\n	<li>Cash Bar</li>\n	<li>Food Truck</li>\n	<li>Raffle Prizes</li>\n</ul>\n
LOCATION:Revatone Farm Weddings & Events
UID:e.492.13461
SEQUENCE:3
DTSTAMP:20260422T070222Z
URL:https://members.fredericksburgchamber.org/events/details/cvhr-spring-barn-dance-13461
END:VEVENT

END:VCALENDAR
