BEGIN:VCALENDAR
VERSION:2.0
PRODID:-//ChamberMaster//Event Calendar 2.0//EN
METHOD:PUBLISH
X-PUBLISHED-TTL:P3D
REFRESH-INTERVAL:P3D
CALSCALE:GREGORIAN
BEGIN:VEVENT
DTSTART:20230420T190000Z
DTEND:20230420T210000Z
X-MICROSOFT-CDO-ALLDAYEVENT:FALSE
SUMMARY:Cyber Bytes Networking Event
DESCRIPTION:Come join the director of Veterans Programs\, Michael Schwartz\, and CHEVERLY for an in-depth discussion around the new CrossXRoads program and its first initiative\; the Center for Military and Veteran Reintegration (CMVR).
X-ALT-DESC;FMTTYPE=text/html:Come join the director of Veterans Programs\, Michael Schwartz\, and CHEVERLY for an in-depth discussion around the new CrossXRoads program and its first initiative\; the Center for Military and Veteran Reintegration (CMVR).
LOCATION:1010 Corporate Dr.\, Stafford
UID:e.492.13479
SEQUENCE:3
DTSTAMP:20260422T084218Z
URL:https://members.fredericksburgchamber.org/events/details/cyber-bytes-networking-event-04-20-2023-13479
END:VEVENT

END:VCALENDAR
