BEGIN:VCALENDAR
VERSION:2.0
PRODID:-//ChamberMaster//Event Calendar 2.0//EN
METHOD:PUBLISH
X-PUBLISHED-TTL:P3D
REFRESH-INTERVAL:P3D
CALSCALE:GREGORIAN
BEGIN:VEVENT
DTSTART:20240124T170000Z
DTEND:20240124T180000Z
X-MICROSOFT-CDO-ALLDAYEVENT:FALSE
SUMMARY:Cybersecurity for Business
DESCRIPTION:This webinar features the Cybersecurity State Coordinator from the Cybersecurity and Infrastructure Security Agency (CISA) to discuss the No-Cost CISA Cybersecurity Services available. Business leaders should know that the majority of small and medium-sized businesses that suffer a cyberattack often close as a result. It's hard to recover financially from a cyber-attack. Although small businesses may lack the resources of a full-time cybersecurity staff\, CISA works with partners to understand\, manage\, and reduce risk to our cyber and physical infrastructure. Our plethora of services will enable businesses to operate more secure in the digital space. Topics Covered: How to recognize phishing attacks Protecting your business from criminals who might otherwise access your accounts Vulnerabilities associated with outdated software.
X-ALT-DESC;FMTTYPE=text/html:This webinar features the Cybersecurity State Coordinator from the Cybersecurity and Infrastructure Security Agency (CISA) to discuss the No-Cost CISA Cybersecurity Services available. Business leaders should know that the majority of small and medium-sized businesses that suffer a cyberattack often close as a result. It&rsquo\;s hard to recover financially from a cyber-attack. Although small businesses may lack the resources of a full-time cybersecurity staff\, CISA works with partners to understand\, manage\, and reduce risk to our cyber and physical infrastructure. Our plethora of services will enable businesses to operate more secure in the digital space. Topics Covered: How to recognize phishing attacks Protecting your business from criminals who might otherwise access your accounts Vulnerabilities associated with outdated software.
LOCATION:Virtual
UID:e.492.13783
SEQUENCE:3
DTSTAMP:20260422T004856Z
URL:https://members.fredericksburgchamber.org/events/details/cybersecurity-for-business-13783
END:VEVENT

END:VCALENDAR
