BEGIN:VCALENDAR
VERSION:2.0
PRODID:-//ChamberMaster//Event Calendar 2.0//EN
METHOD:PUBLISH
X-PUBLISHED-TTL:P3D
REFRESH-INTERVAL:P3D
CALSCALE:GREGORIAN
BEGIN:VEVENT
DTSTART:20230203T220000Z
DTEND:20230204T010000Z
X-MICROSOFT-CDO-ALLDAYEVENT:FALSE
SUMMARY:Darcy Dawn Live Music First Friday
DESCRIPTION:Come on out and Join Downtown FXBG for First Friday Sip in Stroll and come to Mellow Mushroom an see Darcy Dawn live.
X-ALT-DESC;FMTTYPE=text/html:Come on out and Join Downtown FXBG for First Friday Sip in Stroll and come to Mellow Mushroom an see Darcy Dawn live.
LOCATION:Mellow Mushroom 609 William St
UID:e.492.13361
SEQUENCE:3
DTSTAMP:20260422T115226Z
URL:https://members.fredericksburgchamber.org/events/details/darcy-dawn-live-music-first-friday-13361
END:VEVENT

END:VCALENDAR
