BEGIN:VCALENDAR
VERSION:2.0
PRODID:-//ChamberMaster//Event Calendar 2.0//EN
METHOD:PUBLISH
X-PUBLISHED-TTL:P3D
REFRESH-INTERVAL:P3D
CALSCALE:GREGORIAN
BEGIN:VEVENT
DTSTART;VALUE=DATE:20220930
DTEND;VALUE=DATE:20221001
TRANSP:TRANSPARENT
X-MICROSOFT-CDO-ALLDAYEVENT:TRUE
SUMMARY:Day of Giving
DESCRIPTION:Join us for a day of fund and awareness raising! We will have contests for those involved with our peer-to peer fundraising with opportunities to win tickets to our annual gala\, ads in our program or a round of golf! Don't miss out on this fun day raising money for local pediatric cancer families!
X-ALT-DESC;FMTTYPE=text/html:Join us for a day of fund and awareness raising! We will have contests for those involved with our peer-to peer fundraising with opportunities to win tickets to our annual gala\, ads in our program or a round of golf! Don&#39\;t miss out on this fun day raising money for local pediatric cancer families!
LOCATION:
UID:e.492.13093
SEQUENCE:3
DTSTAMP:20260422T225339Z
URL:https://members.fredericksburgchamber.org/events/details/day-of-giving-13093
END:VEVENT

END:VCALENDAR
