BEGIN:VCALENDAR
VERSION:2.0
PRODID:-//ChamberMaster//Event Calendar 2.0//EN
METHOD:PUBLISH
X-PUBLISHED-TTL:P3D
REFRESH-INTERVAL:P3D
CALSCALE:GREGORIAN
BEGIN:VEVENT
DTSTART:20260421T120000Z
DTEND:20260421T170000Z
X-MICROSOFT-CDO-ALLDAYEVENT:FALSE
SUMMARY:Dementia Insights: Navigating the Journey Together
DESCRIPTION:Professionals and Caregivers and invited to attend the 1st annual Dementia Insights: Navigating the Journey Together conference. \nThis event is designed to provide valuable insights\, practical strategies\, and comprehensive support for family and professional caregivers. Attendees will gain hands-on training techniques\, learn how to identify critical resources and explore solutions to common caregiving challenges.\n\nAdditionally\, the conference will highlight advancements in dementia research\, offering a closer look at groundbreaking developments in basic science\, biomarkers and drug therapies. Join us for an engaging and educational experience that empowers caregivers and fosters a deeper understanding of dementia care. We hope you will join us on Tuesday April 21\, 2026 from 9am-1pm.\n\nThis event is open to caregivers for those with Dementia\, including participants seeking and not seeking Continuing Education Units (CEUs). Catered breakfast and lunch will be provided. Register here: Dementia Insights Conference: Navigating the Journey Together - Continuing & Professional Studies
X-ALT-DESC;FMTTYPE=text/html:Professionals and Caregivers and invited to attend the 1st annual Dementia Insights: Navigating the Journey Together conference.&nbsp\;\n<p>This event is designed to provide valuable insights\, practical strategies\, and comprehensive support for family and professional caregivers. Attendees will gain hands-on training techniques\, learn how to identify critical resources and explore solutions to common caregiving challenges.</p>\n\n<p>Additionally\, the conference will highlight advancements in dementia research\, offering a closer look at groundbreaking developments in basic science\, biomarkers and drug therapies. Join us for an engaging and educational experience that empowers caregivers and fosters a deeper understanding of dementia care. We hope you will join us on&nbsp\;<strong>Tuesday April 21\, 2026</strong>&nbsp\;from&nbsp\;<strong>9am-1pm</strong>.</p>\n\n<p>This event is open to caregivers for those with Dementia\, including participants seeking and not seeking Continuing Education Units (CEUs). Catered breakfast and lunch will be provided. Register here:&nbsp\;<a href="https://www.umw.edu/cps/dementia-insights-conference-navigating-the-journey-together/">Dementia Insights Conference: Navigating the Journey Together - Continuing &amp\; Professional Studies</a></p>\n
LOCATION:University of Mary Washington\, Stafford Campus\, University Hall
UID:e.492.15217
SEQUENCE:3
DTSTAMP:20260421T131407Z
URL:https://members.fredericksburgchamber.org/events/details/dementia-insights-navigating-the-journey-together-15217
END:VEVENT

END:VCALENDAR
