BEGIN:VCALENDAR
VERSION:2.0
PRODID:-//ChamberMaster//Event Calendar 2.0//EN
METHOD:PUBLISH
X-PUBLISHED-TTL:P3D
REFRESH-INTERVAL:P3D
CALSCALE:GREGORIAN
BEGIN:VEVENT
DTSTART:20260808T103000Z
DTEND:20260808T183000Z
X-MICROSOFT-CDO-ALLDAYEVENT:FALSE
SUMMARY:DHRT 50K & 3H Half Marathon
DESCRIPTION:Join a bunch of fun-loving people who are as crazy as you are for the 2026 Dahlgren Heritage Rail Trail 50K and 3H (Hot\, Hazy\, and Humid!) Trail Half Marathon. The trail is flat\, well-maintained\, and mostly shaded. But running 31 miles or a half marathon in August is still crazy.\n\nThe Course\n\nTrail Name: Dahlgren Rail Heritage Trail\n\n\n\nSurface: Converted railroad bed. 99.8% dirt\, grass\, pine needles\, crushed stone\, small gravel\n\n\n\nSetup: The race is an out and back\n\n\n\nElevation: Fairly flat with some gradual inclines and declines. Thankfully trains don't like steep hills.\n\n\n\nTime Limit: There is an 8-hour time limit to finish the 50K race. \n\n\n\nSupport Crew: Crew assistance is limited to the aid station at the 50K turnaround. All other on-course support is prohibited.\n\n\n\nThe race is run entirely on the Dahlgren Railroad Heritage Trail in King George\, VA which is a converted railroad bed and provides solid footing with little or no roots. This trail is flat\, smooth\, and fast with a variety of surfaces ranging from dirt\, gravel\, grass\, and pine needles.\n\n\n\nThe trees along the trail ensure almost 100% shade during the run.
X-ALT-DESC;FMTTYPE=text/html:<p>Join a bunch of fun-loving people who are as crazy as you are for the 2026 Dahlgren Heritage Rail Trail 50K and 3H (Hot\, Hazy\, and Humid!) Trail Half Marathon. The trail is flat\, well-maintained\, and mostly shaded. But running 31 miles or a half marathon in August is still crazy.</p>\n\n<h3>The Course</h3>\n\n<p>Trail Name: Dahlgren Rail Heritage Trail<br />\n<br />\nSurface: Converted railroad bed. 99.8% dirt\, grass\, pine needles\, crushed stone\, small gravel<br />\n<br />\nSetup: The race is an out and back<br />\n<br />\nElevation: Fairly flat with some gradual inclines and declines. Thankfully trains don&#39\;t like steep hills.<br />\n<br />\nTime Limit: There is an 8-hour time limit to finish the 50K race.&nbsp\;<br />\n<br />\nSupport Crew: Crew assistance is limited to the aid station at the 50K turnaround. All other on-course support is prohibited.<br />\n<br />\nThe race is run entirely on the Dahlgren Railroad Heritage Trail in King George\, VA which is a converted railroad bed and provides solid footing with little or no roots. This trail is flat\, smooth\, and fast with a variety of surfaces ranging from dirt\, gravel\, grass\, and pine needles.<br />\n<br />\nThe trees along the trail ensure almost 100% shade during the run.</p>\n
LOCATION:Dahlgren Railroad Heritage Trail\, King George\, VA 4224 University Drive King George\, VA 22485
UID:e.492.15180
SEQUENCE:3
DTSTAMP:20260421T193415Z
URL:https://members.fredericksburgchamber.org/events/details/dhrt-50k-3h-half-marathon-08-08-2026-15180
END:VEVENT

END:VCALENDAR
