BEGIN:VCALENDAR
VERSION:2.0
PRODID:-//ChamberMaster//Event Calendar 2.0//EN
METHOD:PUBLISH
X-PUBLISHED-TTL:P3D
REFRESH-INTERVAL:P3D
CALSCALE:GREGORIAN
BEGIN:VEVENT
DTSTART:20220801T190000Z
DTEND:20220801T200000Z
X-MICROSOFT-CDO-ALLDAYEVENT:FALSE
SUMMARY:Digital Sales Coaching
DESCRIPTION:Learn best practice digital sales approaches that will accelerate sales and save time. 3 p.m. on Mondays. Expert coaching\, great discussions and new tools. Weekly\, Mondays at 3 p.m. EST.
X-ALT-DESC;FMTTYPE=text/html:&nbsp\;Learn best practice digital sales approaches that will accelerate sales and save time. 3 p.m. on Mondays. Expert coaching\, great discussions and new tools. Weekly\, Mondays at 3 p.m. EST.
LOCATION:Video coaching group: Sign-up here
UID:e.492.13042
SEQUENCE:3
DTSTAMP:20260422T224803Z
URL:https://members.fredericksburgchamber.org/events/details/digital-sales-coaching-13042
END:VEVENT

END:VCALENDAR
