BEGIN:VCALENDAR
VERSION:2.0
PRODID:-//ChamberMaster//Event Calendar 2.0//EN
METHOD:PUBLISH
X-PUBLISHED-TTL:P3D
REFRESH-INTERVAL:P3D
CALSCALE:GREGORIAN
BEGIN:VEVENT
DTSTART;VALUE=DATE:20201104
DTEND;VALUE=DATE:20201106
TRANSP:TRANSPARENT
X-MICROSOFT-CDO-ALLDAYEVENT:TRUE
SUMMARY:Discover Your Future
DESCRIPTION:Discover Your Future is a workforce development event for area secondary students. This interactive event will highlight local career opportunities and provide students the ability to interact with future employers.
X-ALT-DESC;FMTTYPE=text/html:<p style="margin: 0px\; padding: 0px 0px 17px\; outline: 0px\; font-size: 14px\; line-height: 24px\; color: rgb(58\, 58\, 58)\; font-family: arial\, sans-serif\;"><br />\n<br />\nDiscover Your Future is a workforce development event for area secondary students. This interactive event will highlight local career opportunities and provide students the ability to interact with future employers.&nbsp\;</p>\n
LOCATION:Fredericksburg Expo Center 2371 Carl D. Silver Parkway Fredericksburg VA 22401
UID:e.492.10741
SEQUENCE:3
DTSTAMP:20260421T010830Z
URL:https://members.fredericksburgchamber.org/events/details/discover-your-future-10741
END:VEVENT

END:VCALENDAR
