BEGIN:VCALENDAR
VERSION:2.0
PRODID:-//ChamberMaster//Event Calendar 2.0//EN
METHOD:PUBLISH
X-PUBLISHED-TTL:P3D
REFRESH-INTERVAL:P3D
CALSCALE:GREGORIAN
BEGIN:VEVENT
DTSTART;VALUE=DATE:20231202
DTEND;VALUE=DATE:20231204
TRANSP:TRANSPARENT
X-MICROSOFT-CDO-ALLDAYEVENT:TRUE
SUMMARY:Disney's A Christmas Carol
DESCRIPTION:Join us as we celebrate the holiday season! Enjoy classic holiday films on our Giant-Screen at the Medal of Honor Theater inside of the National Museum of the Marine Corps. Each weekend will feature a new holiday film. Showings will be available Saturday and Sunday\, 11AM and 3PM. Tickets are available for $8 each\, or add a snack bundle for an additional $5. Snack bundles include a choice of snacks and drinks and can be enjoyed inside of the theater during the film. -Disney's A Christmas Carol- Rated PG\, 96 Minutes- From Walt Disney Pictures comes the magical retelling of Charles Dickens' beloved tale   Disney's A Christmas Carol\, the high-flying\, heartwarming adventure for the whole family\, starring Jim Carrey. When three ghosts take penny-pinching Scrooge on an eye-opening journey\, he discovers the true meaning of Christmas -- but he must act on it before it's too late.
X-ALT-DESC;FMTTYPE=text/html:Join us as we celebrate the holiday season! Enjoy classic holiday films on our Giant-Screen at the Medal of Honor Theater inside of the National Museum of the Marine Corps. Each weekend will feature a new holiday film. Showings will be available Saturday and Sunday\, 11AM and 3PM. Tickets are available for $8 each\, or add a snack bundle for an additional $5. Snack bundles include a choice of snacks and drinks and can be enjoyed inside of the theater during the film. -Disney&#39\;s A Christmas Carol- Rated PG\, 96 Minutes- From Walt Disney Pictures comes the magical retelling of Charles Dickens&rsquo\; beloved tale &mdash\; Disney&rsquo\;s A Christmas Carol\, the high-flying\, heartwarming adventure for the whole family\, starring Jim Carrey. When three ghosts take penny-pinching Scrooge on an eye-opening journey\, he discovers the true meaning of Christmas -- but he must act on it before it&rsquo\;s too late.
LOCATION:National Museum of the Marine Corps' Medal of Honor Theater 1775 Semper Fidelis Way Triangle\, VA 22172
UID:e.492.13765
SEQUENCE:3
DTSTAMP:20260421T232754Z
URL:https://members.fredericksburgchamber.org/events/details/disney-s-a-christmas-carol-13765
END:VEVENT

END:VCALENDAR
