BEGIN:VCALENDAR
VERSION:2.0
PRODID:-//ChamberMaster//Event Calendar 2.0//EN
METHOD:PUBLISH
X-PUBLISHED-TTL:P3D
REFRESH-INTERVAL:P3D
CALSCALE:GREGORIAN
BEGIN:VEVENT
DTSTART:20230308T223000Z
DTEND:20230309T003000Z
X-MICROSOFT-CDO-ALLDAYEVENT:FALSE
SUMMARY:Distill It: Issues Facing Our Region's Businesses
DESCRIPTION:Getting to the bottom of the Barrel with the Issues facing our Region! \n\n \n\nJoin us at Distill It as we uncover issues facing our region's largest and most successful organizations. We'll have appetizers\, drinks\, music\, and a great group of people committed to this region! \n\n\n\nSPEAKERS:\n\nDr. Michael McDermott \n\nLloyd Harrison\n\nRobert "Bob" Pleban\n\nJanel Donohue\n\nTricia Hoagland \n\nDebby Girvan\n\n\n\nLet us know you're coming by registering for the event! \n\n \n\nAdmission Fee: \n\n$30 for Members\n\n$50 for Future Members\n\nIncludes Drink Tickets and Appetizers
X-ALT-DESC;FMTTYPE=text/html:<span style="font-size:14px\;"><strong><span style="font-family:times new roman\,serif\;">Getting to the bottom of the Barrel with the Issues facing our Region!&nbsp\;</span></strong><br />\n&nbsp\;<br />\n<strong><span style="font-family:times new roman\,serif\;">Join us at Distill It as we uncover issues facing our region&#39\;s largest and most successful organizations. We&#39\;ll have appetizers\, drinks\, music\, and a great group of people committed to this region! </span></strong><br />\n<br />\n<strong>SPEAKERS:</strong><br />\n<i>Dr. Michael McDermott&nbsp\;<br />\nLloyd Harrison<br />\nRobert &quot\;Bob&quot\; Pleban<br />\nJanel Donohue<br />\nTricia Hoagland&nbsp\;<br />\nDebby Girvan</i><br />\n<br />\n<strong><span style="font-family:times new roman\,serif\;">Let us know you&#39\;re coming by registering for the event! </span></strong><br />\n&nbsp\;<br />\n<strong><span style="font-family:times new roman\,serif\;">Admission Fee: </span></strong><br />\n<strong><span style="font-family:times new roman\,serif\;">$30 for Members</span></strong><br />\n<strong><span style="font-family:times new roman\,serif\;">$50 for Future Members</span></strong><br />\n<strong><span style="font-family:times new roman\,serif\;">Includes Drink Tickets and Appetizers</span></strong></span><br />\n&nbsp\;
LOCATION:A. Smith Bowman Distillery 1 Bowman Drive Fredericksburg\, Virginia 22408
UID:e.492.13222
SEQUENCE:3
DTSTAMP:20260422T115233Z
URL:https://members.fredericksburgchamber.org/events/details/distill-it-issues-facing-our-region-s-businesses-13222
END:VEVENT

END:VCALENDAR
