BEGIN:VCALENDAR
VERSION:2.0
PRODID:-//ChamberMaster//Event Calendar 2.0//EN
METHOD:PUBLISH
X-PUBLISHED-TTL:P3D
REFRESH-INTERVAL:P3D
CALSCALE:GREGORIAN
BEGIN:VEVENT
DTSTART:20250531T170000Z
DTEND:20250531T190000Z
X-MICROSOFT-CDO-ALLDAYEVENT:FALSE
SUMMARY:Dolls of Our Lives
DESCRIPTION:Join us for an author talk and book signing with Mary Mahoney\, co-author of Dolls of Our Lives. Explore the history and cultural impact of the iconic American Girl dolls through stories\, reflections\, and interviews. Discover how these beloved characters shaped a generation and left a lasting legacy. Have dolls? Bring them along! We are partnering with Joy Doll Hospital\, a nonprofit that lovingly restores and gifts American Girl dolls to children in crisis through children's homes and crisis support organizations. If you have a previously loved American Girl doll to donate\, consider bringing her to the event!
X-ALT-DESC;FMTTYPE=text/html:Join us for an author talk and book signing with Mary Mahoney\, co-author of Dolls of Our Lives. Explore the history and cultural impact of the iconic American Girl dolls through stories\, reflections\, and interviews. Discover how these beloved characters shaped a generation and left a lasting legacy. Have dolls? Bring them along! We are partnering with Joy Doll Hospital\, a nonprofit that lovingly restores and gifts American Girl dolls to children in crisis through children&#39\;s homes and crisis support organizations. If you have a previously loved American Girl doll to donate\, consider bringing her to the event!
LOCATION:Gari Melchers Home & Studio 224 Washington St Falmouth\, VA
UID:e.492.14847
SEQUENCE:3
DTSTAMP:20260422T035556Z
URL:https://members.fredericksburgchamber.org/events/details/dolls-of-our-lives-14847
END:VEVENT

END:VCALENDAR
