BEGIN:VCALENDAR
VERSION:2.0
PRODID:-//ChamberMaster//Event Calendar 2.0//EN
METHOD:PUBLISH
X-PUBLISHED-TTL:P3D
REFRESH-INTERVAL:P3D
CALSCALE:GREGORIAN
BEGIN:VEVENT
DTSTART:20221217T150000Z
DTEND:20221217T180000Z
X-MICROSOFT-CDO-ALLDAYEVENT:FALSE
SUMMARY:Dominion Raceways' - Holiday Laps
DESCRIPTION:START YOUR ENGINES!  It's time for Dominion Raceways' Holiday Laps Saturday\, December 11\, 10am to 1pm.  Drive your own car on our two-mile road course\, following our very own NASCAR Driver\, Richard Storm. \n\n\n\nBring your Dodge Caravan\, your Miata\, or your Ferrari\, we don't care\; we just want you to have fun!\n\n\n\n(Holiday Laps is a covid-safe event!)
X-ALT-DESC;FMTTYPE=text/html:<span style="font-family:times new roman"><strong><em><span style="font-size:12pt">START YOUR ENGINES! </span></em></strong></span><span style="font-family:times new roman\,serif"><span style="font-size:12pt"><span style="font-family:times new roman">&nbsp\;It&rsquo\;s time for Dominion Raceways&#39\; Holiday Laps&hellip\;Saturday\, December 11\, 10am to 1pm.&nbsp\; Drive your own car on our two-mile road course\, following our very own NASCAR Driver\, Richard Storm.&nbsp\;</span></span></span><br />\n<br />\n<span style="font-size:16px"><span style="font-family:times new roman"><span style="color:rgb(5\, 5\, 5)">Bring your Dodge Caravan\, your Miata\, or your Ferrari\, we don&#39\;t care\; we just want you to have fun!</span></span></span><br />\n<br />\n<span style="font-family:times new roman\,serif"><span style="font-size:12pt"><em>(Holiday Laps is a covid-safe event!)</em></span></span>
LOCATION:Dominion Raceway 6501 Dominion Raceway Ave Woodford\, VA 22580
UID:e.492.13271
SEQUENCE:3
DTSTAMP:20260422T164129Z
URL:https://members.fredericksburgchamber.org/events/details/dominion-raceways-holiday-laps-12-11-2022-13271
END:VEVENT

END:VCALENDAR
