BEGIN:VCALENDAR
VERSION:2.0
PRODID:-//ChamberMaster//Event Calendar 2.0//EN
METHOD:PUBLISH
X-PUBLISHED-TTL:P3D
REFRESH-INTERVAL:P3D
CALSCALE:GREGORIAN
BEGIN:VEVENT
DTSTART:20221218T150000Z
DTEND:20221218T190000Z
X-MICROSOFT-CDO-ALLDAYEVENT:FALSE
SUMMARY:Dominion Raceways' - Holiday Laps
DESCRIPTION:START YOUR ENGINES!  It's time for Dominion Raceways' Holiday Laps Sunday\, December 18\, 11am to 2pm.  Drive your own car on our two-mile road course\, following our very own NASCAR Driver\, Richard Storm.  PLUS Come take pictures with Santa Sunday December 18th from 11am-1pm at the 118 Bar and Grill at Dominion Raceway\, compliments of Dominion Raceway and Fredericksburg Regional Food Bank \n\n\n\nBring your Dodge Caravan\, your Miata\, or your Ferrari\, we don't care\; we just want you to have fun!\n\n\n\n(Holiday Laps is a covid-safe event!)
X-ALT-DESC;FMTTYPE=text/html:<span style="font-family:times new roman"><strong><em><span style="font-size:12pt">START YOUR ENGINES!&nbsp\;</span></em></strong></span><span style="font-family:times new roman\,serif"><span style="font-size:12pt"><span style="font-family:times new roman">&nbsp\;It&rsquo\;s time for Dominion Raceways&#39\; Holiday Laps&hellip\;Sunday\, December 18\, 11am to 2pm.&nbsp\; Drive your own car on our two-mile road course\, following our very own NASCAR Driver\, Richard Storm. <span style="display:none">&nbsp\;</span><strong>PLUS&nbsp\;</strong></span></span></span><strong><span style="font-size:15px">Come take pictures with Santa Sunday December 18th from 11am-1pm at the&nbsp\;<a class="x1i10hfl xjbqb8w x6umtig x1b1mbwd xaqea5y xav7gou x9f619 x1ypdohk xt0psk2 xe8uvvx xdj266r x11i5rnm xat24cr x1mh8g0r xexx8yu x4uap5 x18d9i69 xkhd6sd x16tdsg8 x1hl2dhg xggy1nq x1a2a7pz xt0b8zv xzsf02u x1s688f" href="https://www.facebook.com/118BarAndGrill?__cft__[0]=AZUgavuboyBycGJNDpVeetzX-ku6NtfeZHFwIxeK2HdcecCw0-fKOEEDnaSvP07rfw15-pxfRyVdZeDkohKekTB7t4Ky1sNXSBkq17fUxS7CQa32VFCJkHxtoDtExHPOnXcGKp1EZCFbDUFZoAjrn-g0wCHh8yTNqNH2jFOedMLHRnmGtEsWF_te1SIHndNmsiE&amp\;__tn__=-]K*F" style="color: var(--primary-text)\; cursor: pointer\; text-decoration: none\; margin: 0px\; text-align: inherit\; padding: 0px\; outline: none\; border: 0px\; font-weight: 600\; box-sizing: border-box\; list-style: none\; touch-action: manipulation\; display: inline\; font-family: inherit\;" tabindex="0"><span style="font-family:inherit"><span style="font-family:inherit">118 Bar and Grill at Dominion Raceway</span></span></a>\, compliments of Dominion Raceway and&nbsp\;<a class="x1i10hfl xjbqb8w x6umtig x1b1mbwd xaqea5y xav7gou x9f619 x1ypdohk xt0psk2 xe8uvvx xdj266r x11i5rnm xat24cr x1mh8g0r xexx8yu x4uap5 x18d9i69 xkhd6sd x16tdsg8 x1hl2dhg xggy1nq x1a2a7pz xt0b8zv xzsf02u x1s688f" href="https://www.facebook.com/FredFoodVA?__cft__[0]=AZUgavuboyBycGJNDpVeetzX-ku6NtfeZHFwIxeK2HdcecCw0-fKOEEDnaSvP07rfw15-pxfRyVdZeDkohKekTB7t4Ky1sNXSBkq17fUxS7CQa32VFCJkHxtoDtExHPOnXcGKp1EZCFbDUFZoAjrn-g0wCHh8yTNqNH2jFOedMLHRnmGtEsWF_te1SIHndNmsiE&amp\;__tn__=-]K*F" style="color: var(--primary-text)\; cursor: pointer\; text-decoration: none\; margin: 0px\; text-align: inherit\; padding: 0px\; outline: none\; border: 0px\; font-weight: 600\; box-sizing: border-box\; list-style: none\; touch-action: manipulation\; display: inline\; font-family: inherit\;" tabindex="0"><span style="font-family:inherit"><span style="font-family:inherit">Fredericksburg Regional Food Bank</span></span></a></span><span style="display:none">&nbsp\;</span></strong><br />\n<br />\n<span style="font-size:16px"><span style="font-family:times new roman"><span style="color:rgb(5\, 5\, 5)">Bring your Dodge Caravan\, your Miata\, or your Ferrari\, we don&#39\;t care\; we just want you to have fun!</span></span></span><br />\n<br />\n<span style="font-family:times new roman\,serif"><span style="font-size:12pt"><em>(Holiday Laps is a covid-safe event!)</em></span></span>
LOCATION:Dominion Raceway 6501 Dominion Raceway Ave Woodford\, VA 22580
UID:e.492.11255
SEQUENCE:3
DTSTAMP:20260422T163950Z
URL:https://members.fredericksburgchamber.org/events/details/dominion-raceways-holiday-laps-12-20-2020-11255
END:VEVENT

END:VCALENDAR
