BEGIN:VCALENDAR
VERSION:2.0
PRODID:-//ChamberMaster//Event Calendar 2.0//EN
METHOD:PUBLISH
X-PUBLISHED-TTL:P3D
REFRESH-INTERVAL:P3D
CALSCALE:GREGORIAN
BEGIN:VEVENT
DTSTART:20230422T110000Z
DTEND:20230422T170000Z
X-MICROSOFT-CDO-ALLDAYEVENT:FALSE
SUMMARY:Downtown Dolls 4th Annual Pie-a-Thon
DESCRIPTION:Join the Downtown Dolls at Hurkamp Park on Saturday\, April 22nd for our Fourth Annual Pie-a-Thon! Pie a Doll or a local Fredericksburg celebrity! All proceeds will benefit Leashes of Valor in Fredericksburg VA. "Leashes of Valor provides highly-trained service dogs to post-9/11 veterans to help with symptoms of post-traumatic stress disorder (PTSD)" and more. \n\n\n\nWhat: Downtown Dolls 4th Annual Pie-a-Thon\, benefitting Leashes of Valor\n\nWhen: Saturday\, April 22nd from 7am - 1pm\n\nWhere: Hurkamp Park (Prince Edward St. Fredericksburg\, VA)
X-ALT-DESC;FMTTYPE=text/html:Join the Downtown Dolls at Hurkamp Park on Saturday\, April 22nd for our Fourth Annual Pie-a-Thon! Pie a Doll <em>or&nbsp\;</em>a local Fredericksburg <em>celebrity! All proceeds will benefit Leashes of Valor in Fredericksburg VA. &quot\;Leashes of Valor provides highly-trained service dogs to post-9/11 veterans to help with symptoms of post-traumatic stress disorder (PTSD)&quot\; and more.&nbsp\;</em><br />\n<br />\n<em>What: Downtown Dolls 4th Annual Pie-a-Thon\, benefitting Leashes of Valor<br />\nWhen: Saturday\, April 22nd from&nbsp\;7am - 1pm<br />\nWhere: Hurkamp Park (Prince Edward St. Fredericksburg\, VA)</em><br />\n&nbsp\;
LOCATION:Hurkamp Park (Prince Edward St. Fredericksburg\, VA)
UID:e.492.13460
SEQUENCE:3
DTSTAMP:20260422T102531Z
URL:https://members.fredericksburgchamber.org/events/details/downtown-dolls-4th-annual-pie-a-thon-13460
END:VEVENT

END:VCALENDAR
