BEGIN:VCALENDAR
VERSION:2.0
PRODID:-//ChamberMaster//Event Calendar 2.0//EN
METHOD:PUBLISH
X-PUBLISHED-TTL:P3D
REFRESH-INTERVAL:P3D
CALSCALE:GREGORIAN
BEGIN:VEVENT
DTSTART:20230617T223000Z
DTEND:20230618T011500Z
X-MICROSOFT-CDO-ALLDAYEVENT:FALSE
SUMMARY:Downtown Dolls Rock-a-Billikens benefitting Old Dominion Humane Society
DESCRIPTION:Join the Downtown Dolls and Billiken's Smokehouse for the 2023 Rock-a-Billiken's pinup contest! This year's event proceeds will benefit Old Dominion Humane Society. Join us from 6:30-9pm for live music\, raffle\, drink special\, and more!
X-ALT-DESC;FMTTYPE=text/html:Join the Downtown Dolls and Billiken&#39\;s Smokehouse for the 2023 Rock-a-Billiken&#39\;s pinup contest! This year&#39\;s event proceeds will benefit Old Dominion Humane Society. Join us from 6:30-9pm for live music\, raffle\, drink special\, and more!&nbsp\;
LOCATION:623 Caroline Street Fredericksburg VA 22401
UID:e.492.13570
SEQUENCE:3
DTSTAMP:20260422T054832Z
URL:https://members.fredericksburgchamber.org/events/details/downtown-dolls-rock-a-billikens-benefitting-old-dominion-humane-society-13570
END:VEVENT

END:VCALENDAR
