BEGIN:VCALENDAR
VERSION:2.0
PRODID:-//ChamberMaster//Event Calendar 2.0//EN
METHOD:PUBLISH
X-PUBLISHED-TTL:P3D
REFRESH-INTERVAL:P3D
CALSCALE:GREGORIAN
BEGIN:VEVENT
DTSTART:20230211T220000Z
DTEND:20230212T020000Z
X-MICROSOFT-CDO-ALLDAYEVENT:FALSE
SUMMARY:Downtown Dolls Sweetheart Swing
DESCRIPTION:Dance the night away like it is 1959! Grab your sweetheart and best mid-century attire for the Downtown Dolls Sweetheart Swing\, benefitting Gwyneth's Gift. Look forward to a special cocktail hour\, dinner\, dance lessons with Dance FXBG\, the Silver Tones Swing Band\, and so much more!
X-ALT-DESC;FMTTYPE=text/html:<span style="color:rgb(5\, 5\, 5)\; font-family:system-ui\,-apple-system\,system-ui\,.sfnstext-regular\,sans-serif\; font-size:15px">Dance the night away like it is 1959! Grab your sweetheart and best mid-century attire for the Downtown Dolls Sweetheart Swing\, benefitting Gwyneth&#39\;s Gift. Look forward to a special cocktail hour\, dinner\, dance lessons with Dance FXBG\, the Silver Tones Swing Band\, and so much more!</span>
LOCATION:21 Cool Springs Rd\, Fredericksburg\, VA 22405-2600\, United States
UID:e.492.13366
SEQUENCE:3
DTSTAMP:20260422T115232Z
URL:https://members.fredericksburgchamber.org/events/details/downtown-dolls-sweetheart-swing-13366
END:VEVENT

END:VCALENDAR
