BEGIN:VCALENDAR
VERSION:2.0
PRODID:-//ChamberMaster//Event Calendar 2.0//EN
METHOD:PUBLISH
X-PUBLISHED-TTL:P3D
REFRESH-INTERVAL:P3D
CALSCALE:GREGORIAN
BEGIN:VEVENT
DTSTART:20230311T140000Z
DTEND:20230311T200000Z
X-MICROSOFT-CDO-ALLDAYEVENT:FALSE
SUMMARY:Driven to Stop Addiction Car Show
DESCRIPTION:Registration is $20 per vehicle to enter the show.\n\nYou will be directed to park and then come to the booth to complete registration. \n\nThere will be food trucks and music for everyone's enjoyment!\n\n\n\nSpectators are FREE\n\n \n\nWelcome to all makes and models cars\, trucks\, and motorcycles -(weather permitting)! This car show is to raise money for addiction awareness and we will be donating to the Zoe Freedom Center\, based in Fredericksburg VA to help people in their journey to recovery. \n\n\n\nThis cause is very personal for us and we know there are many people in the area that have been affected by addiction in some way\, shape\, or form. So please come out and show your support so we can get others the help that they need.
X-ALT-DESC;FMTTYPE=text/html:<div>Registration is $20 per vehicle to enter the show.<br />\nYou will be directed to park and then come to the booth to complete registration.&nbsp\;<br />\nThere will be food trucks and music for everyone&rsquo\;s enjoyment!<br />\n<br />\nSpectators are FREE<br />\n&nbsp\;</div>\n\n<div>Welcome to all makes and models cars\, trucks\, and motorcycles -(weather permitting)! This car show is to raise money for addiction awareness and we will be donating to the Zoe Freedom Center\, based in Fredericksburg VA to help people in their journey to recovery.&nbsp\;<br />\n<br />\nThis cause is very personal for us and we know there are many people in the area that have been affected by addiction in some way\, shape\, or form. So please come out and show your support so we can get others the help that they need.&nbsp\;<br />\n&nbsp\;</div>\n
LOCATION:3461 Fall Hill Ave Fredericksburg VA 22401
UID:e.492.13418
SEQUENCE:3
DTSTAMP:20260422T115227Z
URL:https://members.fredericksburgchamber.org/events/details/driven-to-stop-addiction-car-show-13418
END:VEVENT

END:VCALENDAR
