BEGIN:VCALENDAR
VERSION:2.0
PRODID:-//ChamberMaster//Event Calendar 2.0//EN
METHOD:PUBLISH
X-PUBLISHED-TTL:P3D
REFRESH-INTERVAL:P3D
CALSCALE:GREGORIAN
BEGIN:VEVENT
DTSTART:20230419T160000Z
DTEND:20230419T200000Z
X-MICROSOFT-CDO-ALLDAYEVENT:FALSE
SUMMARY:Elevate FXBG: Uplifting You\, Your Business and Our Community
DESCRIPTION:Discover Next Step is hosting an event to elevate the mental health and well-being of our community helpers in Fredericksburg. Because this is a brand new event\, we're asking companies to raise the area awareness of it\, as it will also benefit teams and employees that are also struggling.\n\n\nThis will be a space to take a pause and reclaim balance and a personal and professional development experience to refresh\, refocus and reboot your leadership while making the investment in our community helpers\, the backbone of our community.  \n\n\n\nThey will walk away with a customized and doable plan. For those who want to continue beyond the event\, there will be an opportunity for them to be part of a leadership resiliency program throughout the remainder of the year.\n\n\n\nThe speakers will talk on the following topics:\n\n\n\nJanel Donohue: Executive Director\, Rappahannock United Way\n\nAccept It\, Change It\, or Move On\n\n\n\nBarbara Gustavson: Owner of Discover Next Step\n\nBrain Health vs. Mental Health: The Key to Ongoing Resilience\n\n\n\nKatina Randle-Howard: CEO & President\, Transformation Lab\n\nThe Momentum of Community\n\n \n\nJarvis Bailey: Educator\, Entrepreneur\, Pastor\, Legacy Coaching\n\nSelf-Care is not and 8-Letter Word\n\n \nRegister today at Elevate FXBG to secure your sponsorship for your team and our community.
X-ALT-DESC;FMTTYPE=text/html:<p><span style="background-color:transparent\; color:rgb(0\, 0\, 0)\; font-family:arial\; font-size:13.5pt">Discover Next Step is hosting an event to elevate the mental health and well-being of our community helpers in Fredericksburg. Because this is a brand new event\, we&#39\;re asking companies to raise the area awareness of it\, as it will also benefit teams and employees that are also struggling.</span></p>\n\n<div>\n<p><span style="background-color:transparent\; color:rgb(0\, 0\, 0)\; font-family:arial\; font-size:13.5pt">This will be a space to take a pause and reclaim balance and a&nbsp\;personal and professional development experience to refresh\, refocus and reboot your leadership while making the investment in our community helpers\, the backbone of our community.&nbsp\;&nbsp\;<br />\n<br />\nThey will walk away with a customized and doable plan. For those who want to continue beyond the event\, there will be an opportunity for them to be part of a leadership resiliency program throughout the remainder of the year.<br />\n<br />\n<strong>The speakers will talk on the following topics:</strong><br />\n<br />\n<strong>Janel Donohue:&nbsp\;</strong>Executive Director\, Rappahannock United Way<br />\n<em>Accept It\, Change It\, or Move On</em></span><br />\n<br />\n<span style="background-color:transparent\; color:rgb(0\, 0\, 0)\; font-family:arial\; font-size:13.5pt"><strong>Barbara Gustavson:&nbsp\;</strong>Owner of Discover Next Step<br />\nBrain Health vs. Mental Health: The Key to Ongoing Resilience<br />\n<br />\n<strong>Katina Randle-Howard:&nbsp\;</strong>CEO &amp\; President\, Transformation Lab<br />\n<em>The Momentum of Community</em></span><br />\n&nbsp\;</p>\n\n<p><span style="background-color:transparent\; color:rgb(0\, 0\, 0)\; font-family:arial\; font-size:13.5pt"><strong>Jarvis Bailey:&nbsp\;</strong>Educator\, Entrepreneur\, Pastor\, Legacy Coaching</span></p>\n\n<p><span style="background-color:transparent\; color:rgb(0\, 0\, 0)\; font-family:arial\; font-size:13.5pt"><em>Self-Care is not and 8-Letter Word</em></span><br />\n&nbsp\;</p>\n<strong><em><span style="background-color:transparent\; color:rgb(0\, 0\, 0)\; font-family:arial\; font-size:13.5pt">Register today at </span><a href="https://www.discovernextstep.com/elevate-fxbg" style="text-decoration-line: none\;"><span style="background-color:transparent\; color:rgb(17\, 85\, 204)\; font-family:arial\; font-size:13.5pt">Elevate FXBG</span></a><span style="background-color:transparent\; color:rgb(0\, 0\, 0)\; font-family:arial\; font-size:13.5pt"> to secure your sponsorship for your team and our community.</span></em></strong></div>\n
LOCATION:Old Silk Mill\, Fredericksburg\, VA
UID:e.492.13441
SEQUENCE:3
DTSTAMP:20260422T085202Z
URL:https://members.fredericksburgchamber.org/events/details/elevate-fxbg-uplifting-you-your-business-and-our-community-13441
END:VEVENT

END:VCALENDAR
