BEGIN:VCALENDAR
VERSION:2.0
PRODID:-//ChamberMaster//Event Calendar 2.0//EN
METHOD:PUBLISH
X-PUBLISHED-TTL:P3D
REFRESH-INTERVAL:P3D
CALSCALE:GREGORIAN
BEGIN:VEVENT
DTSTART:20221013T150000Z
DTEND:20221014T000000Z
X-MICROSOFT-CDO-ALLDAYEVENT:FALSE
SUMMARY:Ellie Elves
DESCRIPTION:Join us and Ellie's Elves a as we Dine in with Mellow Mushroom and 15%v go back to this great Charity. They help local area families in need.
X-ALT-DESC;FMTTYPE=text/html:Join us and Ellie&#39\;s Elves a as we Dine in with Mellow Mushroom and 15%v go back to this great Charity. They help local area families in need.
LOCATION:Mellow Mushroom
UID:e.492.13121
SEQUENCE:3
DTSTAMP:20260422T175901Z
URL:https://members.fredericksburgchamber.org/events/details/ellie-elves-13121
END:VEVENT

END:VCALENDAR
