BEGIN:VCALENDAR
VERSION:2.0
PRODID:-//ChamberMaster//Event Calendar 2.0//EN
METHOD:PUBLISH
X-PUBLISHED-TTL:P3D
REFRESH-INTERVAL:P3D
CALSCALE:GREGORIAN
BEGIN:VEVENT
DTSTART:20230209T163000Z
DTEND:20230209T180000Z
X-MICROSOFT-CDO-ALLDAYEVENT:FALSE
SUMMARY:Embrace Your Inner HR Hero
DESCRIPTION:Now\, more than ever\, HR Professionals are called upon to show their value within the company and the more diverse your skillset\, the better. In this session. HR professionals will explore ways to embrace their HR Hero by: Exploring methods to implement data-driven analytics for sound decision-making\, Reviewing ways to directly add strategic value to business results\, Discussing ways to positively contribute to monetary goals\, Considering benefits of implementing continuous improvement measures in HR programs.
X-ALT-DESC;FMTTYPE=text/html:Now\, more than ever\, HR Professionals are called upon to show their value within the company and the more diverse your skillset\, the better. In this session. HR professionals will explore ways to embrace their HR Hero by: Exploring methods to implement data-driven analytics for sound decision-making\, Reviewing ways to directly add strategic value to business results\, Discussing ways to positively contribute to monetary goals\, Considering benefits of implementing continuous improvement measures in HR programs.
LOCATION:Virtual
UID:e.492.13368
SEQUENCE:3
DTSTAMP:20260422T115206Z
URL:https://members.fredericksburgchamber.org/events/details/embrace-your-inner-hr-hero-13368
END:VEVENT

END:VCALENDAR
