BEGIN:VCALENDAR
VERSION:2.0
PRODID:-//ChamberMaster//Event Calendar 2.0//EN
METHOD:PUBLISH
X-PUBLISHED-TTL:P3D
REFRESH-INTERVAL:P3D
CALSCALE:GREGORIAN
BEGIN:VEVENT
DTSTART:20221208T133000Z
DTEND:20221208T153000Z
X-MICROSOFT-CDO-ALLDAYEVENT:FALSE
SUMMARY:End Of Year Employment Law Update
DESCRIPTION:The laws of the workplace have continued to change dramatically and seem to be changing weekly\, if not daily. For most employers\, it has been difficult to keep pace with all of the changes because of the demands put on HR staff. Please join us for this in-person session\, as our guest speaker\, Randy Sparks from Kaufman & Canoles\, equips HR professionals with the legal information needed to start 2023 off in compliance. During this session\, we will look at workplace changes and developments occurring in the last half of 2022 and some items to help employers be ready for 2023.
X-ALT-DESC;FMTTYPE=text/html:The laws of the workplace have continued to change dramatically and seem to be changing weekly\, if not daily. For most employers\, it has been difficult to keep pace with all of the changes because of the demands put on HR staff. Please join us for this in-person session\, as our guest speaker\, Randy Sparks from Kaufman &amp\; Canoles\, equips HR professionals with the legal information needed to start 2023 off in compliance. During this session\, we will look at workplace changes and developments occurring in the last half of 2022 and some items to help employers be ready for 2023.
LOCATION:Germanna Community College
UID:e.492.13277
SEQUENCE:3
DTSTAMP:20260422T164237Z
URL:https://members.fredericksburgchamber.org/events/details/end-of-year-employment-law-update-12-08-2022-13277
END:VEVENT

END:VCALENDAR
