BEGIN:VCALENDAR
VERSION:2.0
PRODID:-//ChamberMaster//Event Calendar 2.0//EN
METHOD:PUBLISH
X-PUBLISHED-TTL:P3D
REFRESH-INTERVAL:P3D
CALSCALE:GREGORIAN
BEGIN:VEVENT
DTSTART:20221208T130000Z
DTEND:20221208T160000Z
X-MICROSOFT-CDO-ALLDAYEVENT:FALSE
SUMMARY:End of Year Employment Law Update
DESCRIPTION:Please join us as Randy Sparks Jr.\, from Kaufman and Canoles\, informs participants on the many employment law updates of 2022 and what we can expect in 2023. \n\nWhat Now?!!: End-of-Year 2022 Labor and Employment Law Update\n\nWhile we have been dealing with everything related to the COVID-19 pandemic\, the laws of the workplace have changed dramatically and seem to be changing weekly\, if not daily. For most employers\, it has been difficult to keep pace with all of the changes because of the demands put on HR staff.  During this session\, we will look at workplace changes and developments occurring in the last half of 2022 and some items to help employers be ready for 2023.\n\nRandy is a member of the Labor and Employment Law Practice Group at Kaufman & Canoles. He concentrates his practice in employment litigation\, representing employers in employment discrimination\, sexual harassment\, breach of employment contract\, non-compete\, and wage and hour claims before various state and federal courts and administrative agencies. Randy also advises and trains clients on lawful employment practices and other workplace issues.
X-ALT-DESC;FMTTYPE=text/html:<p>Please join us as Randy Sparks Jr.\, from <a href="https://www.kaufcan.com/">Kaufman and Canoles</a>\, informs participants on the many employment law updates of 2022 and what we can expect in 2023.&nbsp\;</p>\n\n<p><strong>What Now?!!: End-of-Year 2022 Labor and Employment Law Update</strong></p>\n\n<p><span style="font-family:inherit">While we have been dealing with everything related to the COVID-19 pandemic\, the laws of the workplace have changed dramatically and seem to be changing weekly\, if not daily. For most employers\, it has been difficult to keep pace with all of the changes because of the demands put on HR staff.&nbsp\; During this session\, we will look at workplace changes and developments occurring in the last half of 2022 and some items to help employers be ready for 2023.</span></p>\n\n<p><span style="font-family:inherit">Randy is a member of the Labor and Employment Law Practice Group at Kaufman &amp\; Canoles. He concentrates his practice in employment litigation\, representing employers in employment discrimination\, sexual harassment\, breach of employment contract\, non-compete\, and wage and hour claims before various state and federal courts and administrative agencies. Randy also advises and trains clients on lawful employment practices and other workplace issues.</span></p>\n
LOCATION:Germanna Community College Center for Workforce and Community Education 10000 Germanna Point Drive Fredericksburg\, VA 22408
UID:e.492.13176
SEQUENCE:3
DTSTAMP:20260422T151850Z
URL:https://members.fredericksburgchamber.org/events/details/end-of-year-employment-law-update-13176
END:VEVENT

END:VCALENDAR
