BEGIN:VCALENDAR
VERSION:2.0
PRODID:-//ChamberMaster//Event Calendar 2.0//EN
METHOD:PUBLISH
X-PUBLISHED-TTL:P3D
REFRESH-INTERVAL:P3D
CALSCALE:GREGORIAN
BEGIN:VEVENT
DTSTART:20250926T213000Z
DTEND:20250927T020000Z
X-MICROSOFT-CDO-ALLDAYEVENT:FALSE
SUMMARY:"Every Step of the Way" Step VA's 3rd annual gala
DESCRIPTION:
X-ALT-DESC;FMTTYPE=text/html:
LOCATION:Arbor Haven Weddings and Events
UID:e.492.14992
SEQUENCE:3
DTSTAMP:20260421T211353Z
URL:https://members.fredericksburgchamber.org/events/details/every-step-of-the-way-step-va-s-3rd-annual-gala-14992
END:VEVENT

END:VCALENDAR
