BEGIN:VCALENDAR
VERSION:2.0
PRODID:-//ChamberMaster//Event Calendar 2.0//EN
METHOD:PUBLISH
X-PUBLISHED-TTL:P3D
REFRESH-INTERVAL:P3D
CALSCALE:GREGORIAN
BEGIN:VEVENT
DTSTART;VALUE=DATE:20221201
DTEND;VALUE=DATE:20221221
TRANSP:TRANSPARENT
X-MICROSOFT-CDO-ALLDAYEVENT:TRUE
SUMMARY:EXCLUSIVE Dom Pérignon Holiday Fundraiser
DESCRIPTION:Don't miss your chance at one of only a handful of bottles of Dom P rignon 2012 (value $200-300) available in the state of Virginia this year. All while supporting a great cause! Proceeds from ticket sales will support FAHASS (Fredericksburg Area Health and Support Services). Due to changes in production\, only 240 bottles of this sought after vintage were distributed across the state of Virginia in 2022...and City Vino in Fredericksburg has one for you! Buy your ticket(s) today for your chance to win. RAFFLE RULES: - Must live in Virginia to win - Must be 21+ with ID to win - No refunds permitted - Tickets available for purchase online until 11:59pm on Dec 19 - Winner will be announced online (and contacted) on Dec 20 To view the bottle on display\, visit City Vino in Downtown Fredericksburg (810 Caroline St) and pick up a small batch wine while you're there! ABOUT FAHASS (501c3 nonprofit): FAHASS works to positively impact individual and community health through education\, outreach\, and targeted programming. They work to address disparities in healthcare access and resources for economically disadvantaged and historically marginalized populations.
X-ALT-DESC;FMTTYPE=text/html:Don&#39\;t miss your chance at one of only a handful of bottles of Dom P&eacute\;rignon 2012 (value $200-300) available in the state of Virginia this year. All while supporting a great cause! Proceeds from ticket sales will support FAHASS (Fredericksburg Area Health and Support Services). Due to changes in production\, only 240 bottles of this sought after vintage were distributed across the state of Virginia in 2022...and City Vino in Fredericksburg has one for you! Buy your ticket(s) today for your chance to win. RAFFLE RULES: - Must live in Virginia to win - Must be 21+ with ID to win - No refunds permitted - Tickets available for purchase online until 11:59pm on Dec 19 - Winner will be announced online (and contacted) on Dec 20 To view the bottle on display\, visit City Vino in Downtown Fredericksburg (810 Caroline St) and pick up a small batch wine while you&#39\;re there! ABOUT FAHASS (501c3 nonprofit): FAHASS works to positively impact individual and community health through education\, outreach\, and targeted programming. They work to address disparities in healthcare access and resources for economically disadvantaged and historically marginalized populations.
LOCATION:Online - bottle @ City Vino 810 Caroline Street Fredericksburg\, VA 22401
UID:e.492.13275
SEQUENCE:3
DTSTAMP:20260422T163817Z
URL:https://members.fredericksburgchamber.org/events/details/exclusive-dom-p&#233;rignon-holiday-fundraiser-13275
END:VEVENT

END:VCALENDAR
