BEGIN:VCALENDAR
VERSION:2.0
PRODID:-//ChamberMaster//Event Calendar 2.0//EN
METHOD:PUBLISH
X-PUBLISHED-TTL:P3D
REFRESH-INTERVAL:P3D
CALSCALE:GREGORIAN
BEGIN:VEVENT
DTSTART:20220924T150000Z
DTEND:20220924T220000Z
X-MICROSOFT-CDO-ALLDAYEVENT:FALSE
SUMMARY:Fall Family Festival
DESCRIPTION:The disability Resource Center of the Rappahannock Area (dRC) is planning a day of fun on September 24\, 2022\, when it hosts "Let the Gourd Times Roll" Fall Family Festival at the Fredericksburg Fairgrounds to raise funds to support its work. There will be music\, games\, food\, vendor tables\, and more to entertain the whole family. The dRC\, a Center for Independent Living\, works to help people with disabilities of all ages to reach their greatest level of independence. The dRC looks forward to seeing you and your family Sept. 24. If you would like to be a vendor or sponsor or need more information\, contact Kim Lett at klett@cildrc.org.
X-ALT-DESC;FMTTYPE=text/html:The disability Resource Center of the Rappahannock Area (dRC) is planning a day of fun on September 24\, 2022\, when it hosts &ldquo\;Let the Gourd Times Roll&rdquo\; Fall Family Festival at the Fredericksburg Fairgrounds to raise funds to support its work. There will be music\, games\, food\, vendor tables\, and more to entertain the whole family. The dRC\, a Center for Independent Living\, works to help people with disabilities of all ages to reach their greatest level of independence. The dRC looks forward to seeing you and your family Sept. 24. If you would like to be a vendor or sponsor or need more information\, contact Kim Lett at klett@cildrc.org.
LOCATION:Fredericksburg Fairgrounds 2400 Airport Ave Fredericksburg\, VA 22401
UID:e.492.13039
SEQUENCE:3
DTSTAMP:20260422T194127Z
URL:https://members.fredericksburgchamber.org/events/details/fall-family-festival-13039
END:VEVENT

END:VCALENDAR
