BEGIN:VCALENDAR
VERSION:2.0
PRODID:-//ChamberMaster//Event Calendar 2.0//EN
METHOD:PUBLISH
X-PUBLISHED-TTL:P3D
REFRESH-INTERVAL:P3D
CALSCALE:GREGORIAN
BEGIN:VEVENT
DTSTART:20221210T160000Z
DTEND:20221211T000000Z
X-MICROSOFT-CDO-ALLDAYEVENT:FALSE
SUMMARY:FAMFaire: KrisKringlMarkt
DESCRIPTION:This event will be a spectacular outdoor shopping experience in one of the most beautiful parts of our notable town. Modeled after traditional German-style markets that began in Nuremberg\, Germany (dating from the 16th century) our holiday market will include vendors selling traditional crafts and foods. It is the perfect environment to invoke the holiday spirit while friends\, families and neighbors stroll along tents filled with gifts and treats.
X-ALT-DESC;FMTTYPE=text/html:This event will be a spectacular outdoor shopping experience in one of the most beautiful parts of our notable town. Modeled after traditional German-style markets that began in Nuremberg\, Germany (dating from the 16th century) our holiday market will include vendors selling traditional crafts and foods. It is the perfect environment to invoke the holiday spirit while friends\, families and neighbors stroll along tents filled with gifts and treats.
LOCATION:907 Princess Anne St.\, Historic Market Square. Fredericksburg\, VA 22401
UID:e.492.13237
SEQUENCE:3
DTSTAMP:20260422T162530Z
URL:https://members.fredericksburgchamber.org/events/details/famfaire-kriskringlmarkt-13237
END:VEVENT

END:VCALENDAR
