BEGIN:VCALENDAR
VERSION:2.0
PRODID:-//ChamberMaster//Event Calendar 2.0//EN
METHOD:PUBLISH
X-PUBLISHED-TTL:P3D
REFRESH-INTERVAL:P3D
CALSCALE:GREGORIAN
BEGIN:VEVENT
DTSTART:20241109T160000Z
DTEND:20241109T190000Z
X-MICROSOFT-CDO-ALLDAYEVENT:FALSE
SUMMARY:Family Day: Veteran's Day and the Marine Corps Birthday
DESCRIPTION:Join the Education Staff for an event that centers around the history of Veteran's Day and the importance of the Marine Corps Birthday. Participants will complete various crafts\, scavenger hunts\, and more! This event is FREE and OPEN TO THE PUBLIC. For more information\, contact Wes Barta at wesley.barta@usmcu.edu.
X-ALT-DESC;FMTTYPE=text/html:Join the Education Staff for an event that centers around the history of Veteran&#39\;s Day and the importance of the Marine Corps Birthday. Participants will complete various crafts\, scavenger hunts\, and more! This event is FREE and OPEN TO THE PUBLIC. For more information\, contact Wes Barta at wesley.barta@usmcu.edu.
LOCATION:National Museum of the Marine Corps 1775 Semper Fidelis Way Triangle\, VA 22172
UID:e.492.14297
SEQUENCE:3
DTSTAMP:20260424T180829Z
URL:https://members.fredericksburgchamber.org/events/details/family-day-veteran-s-day-and-the-marine-corps-birthday-14297
END:VEVENT

END:VCALENDAR
