BEGIN:VCALENDAR
VERSION:2.0
PRODID:-//ChamberMaster//Event Calendar 2.0//EN
METHOD:PUBLISH
X-PUBLISHED-TTL:P3D
REFRESH-INTERVAL:P3D
CALSCALE:GREGORIAN
BEGIN:VEVENT
DTSTART:20240213T130000Z
DTEND:20240213T140000Z
X-MICROSOFT-CDO-ALLDAYEVENT:FALSE
SUMMARY:February Coffee Talk: The Power of Writing
DESCRIPTION:Join the Women's Leadership Colloquium at UMW for February's Coffee Talk as they delve into The Power of Writing. There are numerous benefits to writing things down. Writing helps you remember but it can also help you take a deeper dive into your feelings and make more informed decisions. This session will focus on the science behind the power of writing as well as some helpful tips on how to make the power of writing work for you. February's Coffee Talk will be led by Ms. Kimberly Young\, Communications and Community Engagement Specialist for Caroline County Public Schools.
X-ALT-DESC;FMTTYPE=text/html:Join the Women&#39\;s Leadership Colloquium at UMW for February&#39\;s Coffee Talk as they delve into The Power of Writing. There are numerous benefits to writing things down. Writing helps you remember but it can also help you take a deeper dive into your feelings and make more informed decisions. This session will focus on the science behind the power of writing as well as some helpful tips on how to make the power of writing work for you. February&#39\;s Coffee Talk will be led by Ms. Kimberly Young\, Communications and Community Engagement Specialist for Caroline County Public Schools.
LOCATION:Jepson Alumni and Executive Center Kalnen Inn Living Room 1119 Hanover Street\, Fredericksburg\, VA 22401
UID:e.492.13822
SEQUENCE:3
DTSTAMP:20260422T024015Z
URL:https://members.fredericksburgchamber.org/events/details/february-coffee-talk-the-power-of-writing-13822
END:VEVENT

END:VCALENDAR
