BEGIN:VCALENDAR
VERSION:2.0
PRODID:-//ChamberMaster//Event Calendar 2.0//EN
METHOD:PUBLISH
X-PUBLISHED-TTL:P3D
REFRESH-INTERVAL:P3D
CALSCALE:GREGORIAN
BEGIN:VEVENT
DTSTART:20230216T160000Z
DTEND:20230216T180000Z
X-MICROSOFT-CDO-ALLDAYEVENT:FALSE
SUMMARY:FREE Break Through the $250K Barrier - Bigger and Better Than Ever!
DESCRIPTION:Are you ready to take your business and finances to new heights and break the $250k earning barrier?\n\n\n\nOur "Breaking the $250k Barrier" seminar will provide you with proven marketing techniques that will help you increase your revenue and reach your financial goals.\n\n\n\nThe success of our "Breaking the $250k Barrier" seminar in 2022 was so overwhelming that we are offering the 2023 edition (with even more content and bonuses!\n\n\n\nJoin us and discover the proven marketing techniques that have helped so many businesses increase their revenue and reach their financial goals https://go.capitalize.biz/break250k\n\nAsk yourself \n\n\n\n??Are you overwhelmed with the never-ending to-do list in your business that is already piling up (and January is not even over yet)?\n\n\n\n??Are you frustrated with the inability to get to the next level but you know you're close\, you know that you can do it\, and you're just looking for something to help you move forward?\n\n\n\n??Are you uncertain about how to keep moving forward so you can achieve your goals?\n\n\n\nThis FREE seminar is for you! It is time to go from struggling to success by Capitalizing Your Best and leveraging your zone of genius!\n\n\n\nAnd a huge announcement! For our $47 VIPs\, we are offering a 3rd hour with guest Joel Griffin! Joel is an incredibly wise and gracious entrepreneur\, investor\, and philanthropist.\n\n\n\nHe will offer his insights on moving to the next level\, and he will also be a part of an exclusive Q&A for the 3rd-hour VIPs!\n\n\n\nRegister now and learn how to transform your business!\n\n\n\nAnd don't hesitate on registering for the $47 VIP 3rd hour. We are limiting the number of VIP seats to ensure that everyone gets their questions answered by Joel.\n\n\n\nI can't wait to see you all there!\n\nhttps://go.capitalize.biz/break250k\n\n\n\n#BreakingThe250kBarrier #MarketingTactics #IncomeMaximization #capitalizeyourbest #2020me
X-ALT-DESC;FMTTYPE=text/html:Are you ready to take your business and finances to new heights and break the $250k earning barrier?<br />\n<br />\nOur &quot\;Breaking the $250k Barrier&quot\; seminar will provide you with proven marketing techniques that will help you increase your revenue and reach your financial goals.<br />\n<br />\nThe success of our &quot\;Breaking the $250k Barrier&quot\; seminar in 2022 was so overwhelming that we are offering the 2023 edition (with even more content and bonuses!<br />\n<br />\nJoin us and discover the proven marketing techniques that have helped so many businesses increase their revenue and reach their financial goals <a href="https://go.capitalize.biz/break250k">https://go.capitalize.biz/break250k</a><br />\nAsk yourself&hellip\;<br />\n<br />\n<span style="font-family:segoe ui emoji\,sans-serif">??</span>Are you overwhelmed with the never-ending to-do list in your business that is already piling up (and January is not even over yet)?<br />\n<br />\n<span style="font-family:segoe ui emoji\,sans-serif">??</span>Are you frustrated with the inability to get to the next level but you know you&#39\;re close\, you know that you can do it\, and you&#39\;re just looking for something to help you move forward?<br />\n<br />\n<span style="font-family:segoe ui emoji\,sans-serif">??</span>Are you uncertain about how to keep moving forward so you can achieve your goals?<br />\n<br />\nThis FREE seminar is for you! It is time to go from struggling to success by Capitalizing Your Best and leveraging your zone of genius!<br />\n<br />\nAnd a huge announcement! For our $47 VIPs\, we are offering a 3rd hour with guest Joel Griffin! Joel is an incredibly wise and gracious entrepreneur\, investor\, and philanthropist.<br />\n<br />\nHe will offer his insights on moving to the next level\, and he will also be a part of an exclusive Q&amp\;A for the 3rd-hour VIPs!<br />\n<br />\nRegister now and learn how to transform your business!<br />\n<br />\nAnd don&rsquo\;t hesitate on registering for the $47 VIP 3rd hour. We are limiting the number of VIP seats to ensure that everyone gets their questions answered by Joel.<br />\n<br />\nI can&rsquo\;t wait to see you all there!<br />\n<a href="https://go.capitalize.biz/break250k">https://go.capitalize.biz/break250k</a><br />\n<br />\n#BreakingThe250kBarrier #MarketingTactics #IncomeMaximization #capitalizeyourbest #2020me
LOCATION:Online at https://go.capitalize.biz/break250k
UID:e.492.13390
SEQUENCE:3
DTSTAMP:20260422T115324Z
URL:https://members.fredericksburgchamber.org/events/details/fee-break-through-the-250k-barrier-bigger-and-better-than-ever-13390
END:VEVENT

END:VCALENDAR
