BEGIN:VCALENDAR
VERSION:2.0
PRODID:-//ChamberMaster//Event Calendar 2.0//EN
METHOD:PUBLISH
X-PUBLISHED-TTL:P3D
REFRESH-INTERVAL:P3D
CALSCALE:GREGORIAN
BEGIN:VEVENT
DTSTART:20260110T160000Z
DTEND:20260110T170000Z
X-MICROSOFT-CDO-ALLDAYEVENT:FALSE
SUMMARY:Financial Education Workshop
DESCRIPTION:Start The Year With A Bang: Beginning of the Year Planning Workshop\n\n\n\nTopics to be discussed:\n\n\n\nDebt Management\n\n401K/IRA Rollovers\n\nTax-Free Retirement Strategies\n\nCollege Plans\n\nLegacy Planning\n\nEstate Preservation\n\nWealth Management
X-ALT-DESC;FMTTYPE=text/html:Start The Year With A Bang: Beginning of the Year Planning Workshop<br />\n<br />\nTopics to be discussed:<br />\n<br />\nDebt Management<br />\n401K/IRA Rollovers<br />\nTax-Free Retirement Strategies<br />\nCollege Plans<br />\nLegacy Planning<br />\nEstate Preservation<br />\nWealth Management<br />\n&nbsp\;
LOCATION:Here is the link to register for the Zoom Call. https://us02web.zoom.us/meeting/register/mDBlxk8CRYy4TktcMzT43g Once you register using the link above\, you will be able to join the zoom call.
UID:e.492.15132
SEQUENCE:3
DTSTAMP:20260421T144619Z
URL:https://members.fredericksburgchamber.org/events/details/financial-education-workshop-15132
END:VEVENT

END:VCALENDAR
