BEGIN:VCALENDAR
VERSION:2.0
PRODID:-//ChamberMaster//Event Calendar 2.0//EN
METHOD:PUBLISH
X-PUBLISHED-TTL:P3D
REFRESH-INTERVAL:P3D
CALSCALE:GREGORIAN
BEGIN:VEVENT
DTSTART:20241205T170000Z
DTEND:20241205T180000Z
X-MICROSOFT-CDO-ALLDAYEVENT:FALSE
SUMMARY:First Thursday with the SBA: 8(a) Certification
DESCRIPTION:The Federal Government buys over $600 billion per year on goods and services\, 5% of that spend is allocated for Small Disadvantaged(8(A) firms. This is a huge opportunity for small firms\, who qualify\, to grow their business and become part of the challenging world of Government Contracting through set-aside opportunities. In this presentation you will learn:   Eligibility requirements for 8(a) certification   Understanding the Application Process   Understanding how to prepare before applying   Staying Certified
X-ALT-DESC;FMTTYPE=text/html:The Federal Government buys over $600 billion per year on goods and services\, 5% of that spend is allocated for Small Disadvantaged(8(A) firms. This is a huge opportunity for small firms\, who qualify\, to grow their business and become part of the challenging world of Government Contracting through set-aside opportunities. In this presentation you will learn: &bull\; Eligibility requirements for 8(a) certification &bull\; Understanding the Application Process &bull\; Understanding how to prepare before applying &bull\; Staying Certified
LOCATION:Online Webinar
UID:e.492.14319
SEQUENCE:3
DTSTAMP:20260424T143230Z
URL:https://members.fredericksburgchamber.org/events/details/first-thursday-with-the-sba-8-a-certification-14319
END:VEVENT

END:VCALENDAR
