BEGIN:VCALENDAR
VERSION:2.0
PRODID:-//ChamberMaster//Event Calendar 2.0//EN
METHOD:PUBLISH
X-PUBLISHED-TTL:P3D
REFRESH-INTERVAL:P3D
CALSCALE:GREGORIAN
BEGIN:VEVENT
DTSTART:20221103T160000Z
DTEND:20221103T170000Z
X-MICROSOFT-CDO-ALLDAYEVENT:FALSE
SUMMARY:First Thursdays with the SBA
DESCRIPTION:Topic: Crowdfunding Grab your lunch and join us the first Thursday of each month to learn more about SBA programs and network with other small business owners. Are traditional funding sources not a fit for your business? Consider crowdfunding. Join us as we discuss how crowdfunding works\, why it may work for you\, and tips and tricks on how to be a successful crowd funder. Finding revenue is one of the challenges for a project/idea/business. There are many options to help fund it. One option that may be the stepping stone to success is crowdfunding. Come in and learn if this is a possible funding stream for your future success. Maximized to the fullest use can mean more than money. Key Takeaways: What is crowdfunding? How can crowdfunding help you finance your business? Mistakes to avoid in a crowdfunding campaign. Must Preregister before the event on the website.
X-ALT-DESC;FMTTYPE=text/html:Topic: Crowdfunding Grab your lunch and join us the first Thursday of each month to learn more about SBA programs and network with other small business owners. Are traditional funding sources not a fit for your business? Consider crowdfunding. Join us as we discuss how crowdfunding works\, why it may work for you\, and tips and tricks on how to be a successful crowd funder. Finding revenue is one of the challenges for a project/idea/business. There are many options to help fund it. One option that may be the stepping stone to success is crowdfunding. Come in and learn if this is a possible funding stream for your future success. Maximized to the fullest use can mean more than money. Key Takeaways: What is crowdfunding? How can crowdfunding help you finance your business? Mistakes to avoid in a crowdfunding campaign. Must Preregister before the event on the website.
LOCATION:Online Event
UID:e.492.13167
SEQUENCE:3
DTSTAMP:20260422T163546Z
URL:https://members.fredericksburgchamber.org/events/details/first-thursdays-with-the-sba-13167
END:VEVENT

END:VCALENDAR
