BEGIN:VCALENDAR
VERSION:2.0
PRODID:-//ChamberMaster//Event Calendar 2.0//EN
METHOD:PUBLISH
X-PUBLISHED-TTL:P3D
REFRESH-INTERVAL:P3D
CALSCALE:GREGORIAN
BEGIN:VEVENT
DTSTART:20230601T160000Z
DTEND:20230601T170000Z
X-MICROSOFT-CDO-ALLDAYEVENT:FALSE
SUMMARY:First Thursdays with the SBA: 504 Loans
DESCRIPTION:Topic: SBA Guaranteed Loan: 504 Grab your lunch and join us the first Thursday of each month to learn more about SBA programs and network with other small business owners. The SBA 504 loan program is designed for businesses seeking to purchase real property. This loan program offers small business owners the opportunity to purchase real property using their business through a loan program that offers extended terms. Key Takeaways: - How business real estate ownership is achieved through the SBA 504 Program with low down payments and below market fixed rates - Additional ways to preserve cash for businesses to invest into growth and operating needs - Creative ways to meet injection requirements for the purchase of real estate
X-ALT-DESC;FMTTYPE=text/html:Topic: SBA Guaranteed Loan: 504 Grab your lunch and join us the first Thursday of each month to learn more about SBA programs and network with other small business owners. The SBA 504 loan program is designed for businesses seeking to purchase real property. This loan program offers small business owners the opportunity to purchase real property using their business through a loan program that offers extended terms. Key Takeaways: - How business real estate ownership is achieved through the SBA 504 Program with low down payments and below market fixed rates - Additional ways to preserve cash for businesses to invest into growth and operating needs - Creative ways to meet injection requirements for the purchase of real estate
LOCATION:Virtual
UID:e.492.13476
SEQUENCE:3
DTSTAMP:20260422T070529Z
URL:https://members.fredericksburgchamber.org/events/details/first-thursdays-with-the-sba-504-loans-13476
END:VEVENT

END:VCALENDAR
