BEGIN:VCALENDAR
VERSION:2.0
PRODID:-//ChamberMaster//Event Calendar 2.0//EN
METHOD:PUBLISH
X-PUBLISHED-TTL:P3D
REFRESH-INTERVAL:P3D
CALSCALE:GREGORIAN
BEGIN:VEVENT
DTSTART:20230504T160000Z
DTEND:20230504T170000Z
X-MICROSOFT-CDO-ALLDAYEVENT:FALSE
SUMMARY:First Thursdays with the SBA: 7(a) and Microloans
DESCRIPTION:Grab your lunch and join us online the first Thursday of each month to learn more about SBA programs and network with other small business owners. Topic: 7(a) and Microloans SBA Loan Programs: 7(a) - Come learn how an SBA loan can be used to finance your small business. This workshop will present information on: How to prepare to get an SBA loan Explain the different 7(a) loan programs available What information is needed by a lender to get a loan
X-ALT-DESC;FMTTYPE=text/html:Grab your lunch and join us online the first Thursday of each month to learn more about SBA programs and network with other small business owners. Topic: 7(a) and Microloans SBA Loan Programs: 7(a) - Come learn how an SBA loan can be used to finance your small business. This workshop will present information on: How to prepare to get an SBA loan Explain the different 7(a) loan programs available What information is needed by a lender to get a loan
LOCATION:virtual
UID:e.492.13415
SEQUENCE:3
DTSTAMP:20260422T065805Z
URL:https://members.fredericksburgchamber.org/events/details/first-thursdays-with-the-sba-7-a-and-microloans-13415
END:VEVENT

END:VCALENDAR
