BEGIN:VCALENDAR
VERSION:2.0
PRODID:-//ChamberMaster//Event Calendar 2.0//EN
METHOD:PUBLISH
X-PUBLISHED-TTL:P3D
REFRESH-INTERVAL:P3D
CALSCALE:GREGORIAN
BEGIN:VEVENT
DTSTART:20231207T170000Z
DTEND:20231207T180000Z
X-MICROSOFT-CDO-ALLDAYEVENT:FALSE
SUMMARY:First Thursdays with the SBA: Crowdfunding
DESCRIPTION:Grab your lunch and join us the first Thursday of each month to learn more about SBA programs and network with other small business owners. Are traditional funding sources not a fit for your business? Consider crowdfunding. Join us as we discuss how crowdfunding works\, why it may work for you\, and tips and tricks on how to be a successful crowd funder. Finding revenue is one of the challenges for a project/idea/business. There are many options to help fund it. One option that may be the stepping stone to success is crowdfunding. Come in and learn if this is a possible funding stream for your future success. Maximized to the fullest use can mean more than money. Key Takeaways: What is crowdfunding? How can crowdfunding help you finance your business? Mistakes to avoid in a crowdfunding campaign.
X-ALT-DESC;FMTTYPE=text/html:Grab your lunch and join us the first Thursday of each month to learn more about SBA programs and network with other small business owners. Are traditional funding sources not a fit for your business? Consider crowdfunding. Join us as we discuss how crowdfunding works\, why it may work for you\, and tips and tricks on how to be a successful crowd funder. Finding revenue is one of the challenges for a project/idea/business. There are many options to help fund it. One option that may be the stepping stone to success is crowdfunding. Come in and learn if this is a possible funding stream for your future success. Maximized to the fullest use can mean more than money. Key Takeaways: What is crowdfunding? How can crowdfunding help you finance your business? Mistakes to avoid in a crowdfunding campaign.
LOCATION:Virtual
UID:e.492.13777
SEQUENCE:3
DTSTAMP:20260421T232713Z
URL:https://members.fredericksburgchamber.org/events/details/first-thursdays-with-the-sba-crowdfunding-13777
END:VEVENT

END:VCALENDAR
