BEGIN:VCALENDAR
VERSION:2.0
PRODID:-//ChamberMaster//Event Calendar 2.0//EN
METHOD:PUBLISH
X-PUBLISHED-TTL:P3D
REFRESH-INTERVAL:P3D
CALSCALE:GREGORIAN
BEGIN:VEVENT
DTSTART:20230406T160000Z
DTEND:20230406T170000Z
X-MICROSOFT-CDO-ALLDAYEVENT:FALSE
SUMMARY:First Thursdays with the SBA: HubZone
DESCRIPTION:Topic: HUBZone Grab your lunch and join us the first Thursday of each month to learn more about SBA programs and network with other small business owners. Do you own a small business and are interested in contracting with the federal government? Did you know that government limits competition for certain contracts to businesses in historically underutilized business zones (HUBZones)? It also gives preferential consideration to those businesses in full and open competition. Joining the HUBZone program makes your business eligible to compete for the program's set-aside contracts.
X-ALT-DESC;FMTTYPE=text/html:Topic: HUBZone Grab your lunch and join us the first Thursday of each month to learn more about SBA programs and network with other small business owners. Do you own a small business and are interested in contracting with the federal government? Did you know that government limits competition for certain contracts to businesses in historically underutilized business zones (HUBZones)? It also gives preferential consideration to those businesses in full and open competition. Joining the HUBZone program makes your business eligible to compete for the program&rsquo\;s set-aside contracts.
LOCATION:Virtual
UID:e.492.13408
SEQUENCE:3
DTSTAMP:20260422T091743Z
URL:https://members.fredericksburgchamber.org/events/details/first-thursdays-with-the-sba-hubzone-13408
END:VEVENT

END:VCALENDAR
