BEGIN:VCALENDAR
VERSION:2.0
PRODID:-//ChamberMaster//Event Calendar 2.0//EN
METHOD:PUBLISH
X-PUBLISHED-TTL:P3D
REFRESH-INTERVAL:P3D
CALSCALE:GREGORIAN
BEGIN:VEVENT
DTSTART:20240201T170000Z
DTEND:20240201T180000Z
X-MICROSOFT-CDO-ALLDAYEVENT:FALSE
SUMMARY:First Thursdays with the SBA: Making your business creditworthy
DESCRIPTION:Grab your lunch and join us virtually for the first Thursday of each month to learn more about SBA programs and network with other small business owners. Finding funding for your business can be challenging if your credit score is weak. Join us as we discuss strategies to improve both your personal and business credit score. Key Takeaways: -how your personal credit affects your business -how to improve your personal credit to benefit your business -how to improve your business credit over time
X-ALT-DESC;FMTTYPE=text/html:Grab your lunch and join us virtually for the first Thursday of each month to learn more about SBA programs and network with other small business owners. Finding funding for your business can be challenging if your credit score is weak. Join us as we discuss strategies to improve both your personal and business credit score. Key Takeaways: -how your personal credit affects your business -how to improve your personal credit to benefit your business -how to improve your business credit over time
LOCATION:Virtual
UID:e.492.13791
SEQUENCE:3
DTSTAMP:20260422T024718Z
URL:https://members.fredericksburgchamber.org/events/details/first-thursdays-with-the-sba-making-your-business-creditworthy-02-01-2024-13791
END:VEVENT

END:VCALENDAR
