BEGIN:VCALENDAR
VERSION:2.0
PRODID:-//ChamberMaster//Event Calendar 2.0//EN
METHOD:PUBLISH
X-PUBLISHED-TTL:P3D
REFRESH-INTERVAL:P3D
CALSCALE:GREGORIAN
BEGIN:VEVENT
DTSTART:20240307T170000Z
DTEND:20240307T180000Z
X-MICROSOFT-CDO-ALLDAYEVENT:FALSE
SUMMARY:First Thursdays with the SBA: Market Research w/ Census data and other free tools
DESCRIPTION:Grab your lunch and join us the first Thursday of each month to learn more about SBA programs and network with other small business owners. Market research is an integral step in creating your business plan\, identifying your competition\, and identifying your market. In this workshop we will cover free resources to find market research data using the following databases: -Census Business Builder -International Trade Data -Trade Group Data -ESRI
X-ALT-DESC;FMTTYPE=text/html:Grab your lunch and join us the first Thursday of each month to learn more about SBA programs and network with other small business owners. Market research is an integral step in creating your business plan\, identifying your competition\, and identifying your market. In this workshop we will cover free resources to find market research data using the following databases: -Census Business Builder -International Trade Data -Trade Group Data -ESRI
LOCATION:Virtual
UID:e.492.13789
SEQUENCE:3
DTSTAMP:20260422T035540Z
URL:https://members.fredericksburgchamber.org/events/details/first-thursdays-with-the-sba-market-research-w-census-data-and-other-free-tools-13789
END:VEVENT

END:VCALENDAR
