BEGIN:VCALENDAR
VERSION:2.0
PRODID:-//ChamberMaster//Event Calendar 2.0//EN
METHOD:PUBLISH
X-PUBLISHED-TTL:P3D
REFRESH-INTERVAL:P3D
CALSCALE:GREGORIAN
BEGIN:VEVENT
DTSTART:20260604T160000Z
DTEND:20260604T170000Z
X-MICROSOFT-CDO-ALLDAYEVENT:FALSE
SUMMARY:First Thursdays with the SBA: Sales\, Website\, and Social Media
DESCRIPTION:First Thursdays with the SBA: Sales\, Website\, and Social Media\n\n\n\n\n\nJun\n\n4\n\n2026\n\n\n\n\nThu\, Jun 4 12:00 PM to 1:00 PM\n\nAdd to Google Calendar | Outlook Calendar | Apple Calendar\n\n\n\n\n Online\nFacilitated by University of Mary Washington SBDC\n\n\nTopic: Marketing and Sales\n\n \n\nSales\, Website\, & Social Media\n\n\n	Participants will learn about the importance of web design and presence\n	Participants will identify reasons for having a website and reasons to have a website\n	Participants will learn about the importance of using a proper email address and domain\n	Social-Media-a part of marketing\n\n\nSpeaker(s): Martin Short\, Lead Economic Development Specialist & Public Information Officer Virginia-Richmond District Office\, U. S. Small Business Administration\n\nCo-Sponsor(s):\n\nIf you need further assistance or have a question\, please contact us at (540) 654-1383\n\nFee: No Cost\n\nRegister Online
X-ALT-DESC;FMTTYPE=text/html:<h1>First Thursdays with the SBA: Sales\, Website\, and Social Media</h1>\n\n<div>\n<div>\n<div>\n<div style="text-align:center">\n<div>Jun</div>\n\n<div>4</div>\n\n<div>2026</div>\n</div>\n</div>\n\n<div>\n<div>Thu\, Jun 4 12:00 PM to 1:00 PM</div>\n\n<div>Add to&nbsp\;<a href="https://clients.virginiasbdc.org/eventcal?type=google&amp\;e=140460008">Google Calendar</a>&nbsp\;|&nbsp\;<a href="https://clients.virginiasbdc.org/eventcal?e=140460008">Outlook Calendar</a>&nbsp\;|&nbsp\;<a href="https://clients.virginiasbdc.org/eventcal?e=140460008">Apple Calendar</a></div>\n</div>\n</div>\n</div>\n\n<div>&nbsp\;Online\n<div>Facilitated by&nbsp\;<a href="https://clients.virginiasbdc.org/center.aspx?center=46140">University of Mary Washington SBDC</a></div>\n</div>\n\n<div>Topic: Marketing and Sales</div>\n\n<div>&nbsp\;</div>\n\n<p>Sales\, Website\, &amp\; Social Media</p>\n\n<ul>\n	<li>Participants will learn about the importance of web design and presence</li>\n	<li>Participants will identify reasons for having a website and reasons to have a website</li>\n	<li>Participants will learn about the importance of using a proper email address and domain</li>\n	<li>Social-Media-a part of marketing</li>\n</ul>\n\n<p>Speaker(s): Martin Short\, Lead Economic Development Specialist &amp\; Public Information Officer Virginia-Richmond District Office\, U. S. Small Business Administration</p>\n\n<p>Co-Sponsor(s):</p>\n\n<p>If you need further assistance or have a question\, please contact us at (540) 654-1383</p>\n\n<p>Fee: No Cost</p>\n\n<div><a class="cdeventreg" href="https://clients.virginiasbdc.org/reg.aspx?mode=event&amp\;event=140460008" rel="nofollow" style="padding: 0.8rem 2rem\; font-size: 1.2rem\; display: inline-block\; margin-bottom: 0.5em\; background-color: rgb(0\, 64\, 117) !important\; color: white !important\;">Register Online</a></div>\n
LOCATION:Register Online
UID:e.492.15362
SEQUENCE:3
DTSTAMP:20260421T082118Z
URL:https://members.fredericksburgchamber.org/events/details/first-thursdays-with-the-sba-sales-website-and-social-media-15362
END:VEVENT

END:VCALENDAR
