BEGIN:VCALENDAR
VERSION:2.0
PRODID:-//ChamberMaster//Event Calendar 2.0//EN
METHOD:PUBLISH
X-PUBLISHED-TTL:P3D
REFRESH-INTERVAL:P3D
CALSCALE:GREGORIAN
BEGIN:VEVENT
DTSTART:20260507T160000Z
DTEND:20260507T170000Z
X-MICROSOFT-CDO-ALLDAYEVENT:FALSE
SUMMARY:First Thursdays with the SBA: SBA Loan Programs
DESCRIPTION:Online Facilitated by University of Mary Washington SBDC Topic: Financing Topic: SBA Guaranteed Loans Grab your lunch and join us the first Thursday of each month to learn more about SBA programs and network with other small business owners. The SBA 7a and 504 loan programs are designed for businesses gain capital to start and grow their businesses. Key Takeaways: How SBA loan programs can help small businesses achieve financing to start or grow business Types of SBA loans Documentation needed by lenders when applying for a small business loan Speaker(s): Ford Scott Lender Relations Specialist Richmond\, VA District Office\, U. S. Small Business Administration Co-Sponsor(s): If you need further assistance or have a question\, please contact us at (540)654-1383 Fee: No Cost Register Online Already Registered? Sign in for more information.
X-ALT-DESC;FMTTYPE=text/html:Online Facilitated by University of Mary Washington SBDC Topic: Financing Topic: SBA Guaranteed Loans Grab your lunch and join us the first Thursday of each month to learn more about SBA programs and network with other small business owners. The SBA 7a and 504 loan programs are designed for businesses gain capital to start and grow their businesses. Key Takeaways: How SBA loan programs can help small businesses achieve financing to start or grow business Types of SBA loans Documentation needed by lenders when applying for a small business loan Speaker(s): Ford Scott Lender Relations Specialist Richmond\, VA District Office\, U. S. Small Business Administration Co-Sponsor(s): If you need further assistance or have a question\, please contact us at (540)654-1383 Fee: No Cost Register Online Already Registered? Sign in for more information.
LOCATION:https://clients.virginiasbdc.org/reg.aspx?mode=event&event=140460007
UID:e.492.15188
SEQUENCE:3
DTSTAMP:20260421T144630Z
URL:https://members.fredericksburgchamber.org/events/details/first-thursdays-with-the-sba-sba-loan-programs-15188
END:VEVENT

END:VCALENDAR
